BEGIN:VCALENDAR
VERSION:2.0
PRODID:-//ChamberMaster//Event Calendar 2.0//EN
METHOD:PUBLISH
X-PUBLISHED-TTL:P3D
REFRESH-INTERVAL:P3D
CALSCALE:GREGORIAN
BEGIN:VEVENT
DTSTART;VALUE=DATE:20190214
DTEND;VALUE=DATE:20190215
TRANSP:TRANSPARENT
X-MICROSOFT-CDO-ALLDAYEVENT:TRUE
SUMMARY:Date Night Painting at Pinot's Palette- The Glen
DESCRIPTION:February 14th celebrate Valentines day with your special someone OR GALentines day with your favorite ladies here at Pinot's Palette! Date Night will be in one room painting 2 canvases to make 1 big picture. Our GALentines day celebration will be in the other room Painting "Paradise Cove"!
X-ALT-DESC;FMTTYPE=text/html:February 14th celebrate Valentines day with your special someone OR GALentines day with your favorite ladies here at Pinot&rsquo\;s Palette! Date Night will be in one room painting 2 canvases to make 1 big picture. Our GALentines day celebration will be in the other room Painting &quot\;Paradise Cove&rdquo\;!
LOCATION:Pinot's Palette The Glen 2011 Tower Drive Glenview\, IL 60026
UID:e.434.10070
SEQUENCE:3
DTSTAMP:20260425T023317Z
URL:http://business.glenviewchamber.com/events/details/date-night-painting-at-pinot-s-palette-the-glen-10070
END:VEVENT

END:VCALENDAR
