BEGIN:VCALENDAR
VERSION:2.0
PRODID:-//ChamberMaster//Event Calendar 2.0//EN
METHOD:PUBLISH
X-PUBLISHED-TTL:P3D
REFRESH-INTERVAL:P3D
CALSCALE:GREGORIAN
BEGIN:VEVENT
DTSTART;VALUE=DATE:20190201
DTEND;VALUE=DATE:20190202
TRANSP:TRANSPARENT
X-MICROSOFT-CDO-ALLDAYEVENT:TRUE
SUMMARY:Date Night Painting at Pinot's Palette- The Glen
DESCRIPTION:Starting off February with a Date Night Painting - also available on wood!
X-ALT-DESC;FMTTYPE=text/html:Starting off February with a Date Night Painting - also available on wood!
LOCATION:Pinot's Palette - The Glen 2011 Tower Drive Glenview\, IL 60026 P: 847.730.5972
UID:e.434.10071
SEQUENCE:3
DTSTAMP:20260425T035248Z
URL:http://business.glenviewchamber.com/events/details/date-night-painting-at-pinot-s-palette-the-glen-10071
END:VEVENT

END:VCALENDAR
