BEGIN:VCALENDAR
VERSION:2.0
PRODID:-//ChamberMaster//Event Calendar 2.0//EN
METHOD:PUBLISH
X-PUBLISHED-TTL:P3D
REFRESH-INTERVAL:P3D
CALSCALE:GREGORIAN
BEGIN:VEVENT
DTSTART:20170908T150000Z
DTEND:20170908T230000Z
X-MICROSOFT-CDO-ALLDAYEVENT:FALSE
SUMMARY:Deka Lash Ribbon Cutting Ceremony/Grand Opening
DESCRIPTION:Deka Lash \n\nGrand Opening 10 am - 6 pm\n\nRibbon Cutting Ceremony - 11:30 am - 12:30 pm
X-ALT-DESC;FMTTYPE=text/html:Deka Lash&nbsp\;<br />\nGrand Opening 10 am - 6 pm<br />\nRibbon Cutting Ceremony - 11:30 am - 12:30 pm<br />\n&nbsp\;
LOCATION:Carillon Square 1444 Waukegan Road Glenview
UID:e.434.7287
SEQUENCE:3
DTSTAMP:20260426T001648Z
URL:http://business.glenviewchamber.com/events/details/deka-lash-ribbon-cutting-ceremony-grand-opening-7287
END:VEVENT

END:VCALENDAR
