BEGIN:VCALENDAR
VERSION:2.0
PRODID:-//ChamberMaster//Event Calendar 2.0//EN
METHOD:PUBLISH
X-PUBLISHED-TTL:P3D
REFRESH-INTERVAL:P3D
CALSCALE:GREGORIAN
BEGIN:VEVENT
DTSTART:20180124T233000Z
DTEND:20180125T003000Z
X-MICROSOFT-CDO-ALLDAYEVENT:FALSE
SUMMARY:Dementia Support Group For Families and Loved Ones
DESCRIPTION:Dementia is a devastating disease that is commonly referred to as "The Long Goodbye." You don't have to go through this alone. Please join us as we provide information about dementia\, how to cope with the progressive decline and how to still have meaningful interactions! You will be able to share your feeling and ask questions amongst others who understand what it is like to care for someone with dementia. \n\nFacilitated by Karen Tablof\, LCSW of ALC Health Care Services. \n\nThis is an ongoing monthly meeting held the 4th Wednesday of each month.
X-ALT-DESC;FMTTYPE=text/html:<p>Dementia is a devastating disease that is commonly referred to as <em>&quot\;The Long Goodbye.&quot\; </em>You don&#39\;t have to go through this alone. Please join us as we provide information about dementia\, how to cope with the progressive decline and how to still have meaningful interactions! You will be able to share your feeling and ask questions amongst others who understand what it is like to care for someone with dementia.&nbsp\;</p>\n\n<p>Facilitated by Karen Tablof\, LCSW of ALC Health Care Services.&nbsp\;</p>\n\n<p><em>This is an ongoing monthly meeting held the 4th Wednesday of each month.&nbsp\;</em></p>\n
LOCATION:Emerald Place 1879 Chestnut Avenue Glenview\, IL 60025
UID:e.434.8714
SEQUENCE:3
DTSTAMP:20260425T190601Z
URL:http://business.glenviewchamber.com/events/details/dementia-support-group-for-families-and-loved-ones-8714
END:VEVENT

END:VCALENDAR
