BEGIN:VCALENDAR
VERSION:2.0
PRODID:-//ChamberMaster//Event Calendar 2.0//EN
METHOD:PUBLISH
X-PUBLISHED-TTL:P3D
REFRESH-INTERVAL:P3D
CALSCALE:GREGORIAN
BEGIN:VEVENT
DTSTART:20180510T223000Z
DTEND:20180511T010000Z
X-MICROSOFT-CDO-ALLDAYEVENT:FALSE
SUMMARY:Devon Bank Home Buyer Seminar
DESCRIPTION:Devon Bank Home Buyer Seminar\n\nJoin our esteemed panel featuring:\n\n- Lenders\n\n- Realtors\n\n- Real Estate Attorneys\n\n- Appraisers\n\n- Home Inspectors\n\nas we guide you through the process of buying a home\, and discuss the future of the real estate market in the northern suburbs.
X-ALT-DESC;FMTTYPE=text/html:Devon Bank Home Buyer Seminar<br />\nJoin our esteemed panel featuring:<br />\n- Lenders<br />\n- Realtors<br />\n- Real Estate Attorneys<br />\n- Appraisers<br />\n- Home Inspectors<br />\nas we guide you through the process of buying a home\, and discuss the future of the real estate market in the northern suburbs.&nbsp\;&nbsp\;&nbsp\;&nbsp\;
LOCATION:Devon Bank 950 Milwaukee Avenue Glenview\, IL 60025
UID:e.434.9773
SEQUENCE:3
DTSTAMP:20260425T135610Z
URL:http://business.glenviewchamber.com/events/details/devon-bank-home-buyer-seminar-9773
END:VEVENT

END:VCALENDAR
