BEGIN:VCALENDAR
VERSION:2.0
PRODID:-//ChamberMaster//Event Calendar 2.0//EN
METHOD:PUBLISH
X-PUBLISHED-TTL:P3D
REFRESH-INTERVAL:P3D
CALSCALE:GREGORIAN
BEGIN:VEVENT
DTSTART:20190316T193000Z
DTEND:20190316T213000Z
X-MICROSOFT-CDO-ALLDAYEVENT:FALSE
SUMMARY:Dive for Gold in the North Suburban YMCA
DESCRIPTION:The annual Dive for Gold in the North Suburban YMCA pool will be held on Saturday\, March 16th from 2:30-4:30 p.m.  Kids are invited to collect "leprechaun gold" tokens from the depths of the indoor pool\, which will be tinted a festive green for the St. Patrick's Day holiday. The tokens can then be exchanged for goody bags of prizes. Admission is free for NSYMCA members. Non-member admission is $10 per person with a maximum fee of $20 per family. Parents are asked to swim with children younger than six\, and to stay in the pool area to supervise older children.For more information go to www.nsymca.org.
X-ALT-DESC;FMTTYPE=text/html:The annual Dive for Gold in the North Suburban YMCA pool will be held on Saturday\, March 16th from 2:30-4:30 p.m.&nbsp\; Kids are invited to collect &ldquo\;leprechaun gold&rdquo\; tokens from the depths of the indoor pool\, which will be tinted a festive green for the St. Patrick&#39\;s Day holiday. The tokens can then be exchanged for goody bags of prizes. Admission is free for NSYMCA members. Non-member admission is $10 per person with a maximum fee of $20 per family. Parents are asked to swim with children younger than six\, and to stay in the pool area to supervise older children.For more information go to www.nsymca.org.<br />\n
LOCATION:North Suburban YMCA 2705 Techny Road Northbrook\, IL
UID:e.434.10089
SEQUENCE:3
DTSTAMP:20260425T035123Z
URL:http://business.glenviewchamber.com/events/details/dive-for-gold-in-the-north-suburban-ymca-10089
END:VEVENT

END:VCALENDAR
