BEGIN:VCALENDAR
VERSION:2.0
PRODID:-//ChamberMaster//Event Calendar 2.0//EN
METHOD:PUBLISH
X-PUBLISHED-TTL:P3D
REFRESH-INTERVAL:P3D
CALSCALE:GREGORIAN
BEGIN:VEVENT
DTSTART:20171017T220000Z
DTEND:20171018T000000Z
X-MICROSOFT-CDO-ALLDAYEVENT:FALSE
SUMMARY:East End Dentistry Open House
DESCRIPTION:Open House at East End Denistry
X-ALT-DESC;FMTTYPE=text/html:Open House at East End Denistry
LOCATION:324 Waukegan Road Glenview
UID:e.434.7315
SEQUENCE:3
DTSTAMP:20260425T225121Z
URL:http://business.glenviewchamber.com/events/details/east-end-dentistry-open-house-7315
END:VEVENT

END:VCALENDAR
