BEGIN:VCALENDAR
VERSION:2.0
PRODID:-//ChamberMaster//Event Calendar 2.0//EN
METHOD:PUBLISH
X-PUBLISHED-TTL:P3D
REFRESH-INTERVAL:P3D
CALSCALE:GREGORIAN
BEGIN:VEVENT
DTSTART:20180501T130000Z
DTEND:20180501T143000Z
X-MICROSOFT-CDO-ALLDAYEVENT:FALSE
SUMMARY:Economic Outlook Breakfast
DESCRIPTION:Erik Davidson\, VP & Chief Investment Officer for Wells Fargo is set for speaking at the Economic Outlook Breakfast on Tuesday\, May 1\, 8:00 a.m. at the Hilton.
X-ALT-DESC;FMTTYPE=text/html:<span style="font-size:11.0pt\;">Erik Davidson\, VP &amp\; Chief Investment Officer for Wells Fargo is set for speaking at the Economic Outlook Breakfast on Tuesday\, May 1\, 8:00 a.m. at the Hilton.&nbsp\;&nbsp\;</span>
LOCATION:LOCATION CHANGE: Crowne Plaza Chicago Northbrook 2875 Milwaukee Ave\, Northbrook
UID:e.434.8719
SEQUENCE:3
DTSTAMP:20260425T135601Z
URL:http://business.glenviewchamber.com/events/details/economic-outlook-breakfast-8719
END:VEVENT

END:VCALENDAR
