BEGIN:VCALENDAR
VERSION:2.0
PRODID:-//ChamberMaster//Event Calendar 2.0//EN
METHOD:PUBLISH
X-PUBLISHED-TTL:P3D
REFRESH-INTERVAL:P3D
CALSCALE:GREGORIAN
BEGIN:VEVENT
DTSTART:20170715T140000Z
DTEND:20170715T170000Z
X-MICROSOFT-CDO-ALLDAYEVENT:FALSE
SUMMARY:Electronic Recycling and Document Shredding
DESCRIPTION:Electronics Recycling and Document Shredding
X-ALT-DESC;FMTTYPE=text/html:Electronics Recycling and Document Shredding
LOCATION:Glenview Municipal Center 2500 East Lake Avenue Glenview\, IL
UID:e.434.7136
SEQUENCE:3
DTSTAMP:20260426T030239Z
URL:http://business.glenviewchamber.com/events/details/electronic-recycling-and-document-shredding-7136
END:VEVENT

END:VCALENDAR
