BEGIN:VCALENDAR
VERSION:2.0
PRODID:-//ChamberMaster//Event Calendar 2.0//EN
METHOD:PUBLISH
X-PUBLISHED-TTL:P3D
REFRESH-INTERVAL:P3D
CALSCALE:GREGORIAN
BEGIN:VEVENT
DTSTART:20171207T230000Z
DTEND:20171208T010000Z
X-MICROSOFT-CDO-ALLDAYEVENT:FALSE
SUMMARY:Emerald Place Grand Opening
DESCRIPTION:Emerald Place - An Anthem Memory Care Community formal ribbon cutting and opening starting at 5:00 p.m. and the cutting will take place between 5:30 - 6 pm.
X-ALT-DESC;FMTTYPE=text/html:Emerald Place - An Anthem Memory Care Community formal ribbon cutting and opening starting at 5:00 p.m. and the cutting will take place between 5:30 - 6 pm.&nbsp\;
LOCATION:1879 Chestnut Avenue\, Glenview\, IL 60025
UID:e.434.7334
SEQUENCE:3
DTSTAMP:20260425T213357Z
URL:http://business.glenviewchamber.com/events/details/emerald-place-grand-opening-7334
END:VEVENT

END:VCALENDAR
