BEGIN:VCALENDAR
VERSION:2.0
PRODID:-//ChamberMaster//Event Calendar 2.0//EN
METHOD:PUBLISH
X-PUBLISHED-TTL:P3D
REFRESH-INTERVAL:P3D
CALSCALE:GREGORIAN
BEGIN:VEVENT
DTSTART:20250929T220000Z
DTEND:20250930T000000Z
X-MICROSOFT-CDO-ALLDAYEVENT:FALSE
SUMMARY:Empower Glenview: Solving Challenges\, Growing Businesses
DESCRIPTION:Glenview Chamber of Commerce is excited to continue Empower Glenview\, a free program designed to help local business leaders overcome challenges and foster growth. The second session\, sponsored by the Glenview Public Library\, will take place on Monday\, September 29\, 2025. You do not need to have attended the first session to come to the second. Lindsey Dorfman\, Executive Library Director\, expressed enthusiasm for the collaboration\, highlighting the library's commitment to connecting entrepreneurs with valuable resources and expert guidance.\n\nBecky Thalmann will serve as the Business Coach in Residence leading these transformative coaching sessions throughout 2025. She is the founder of Vivica Partners\, a Life & Business Strategist\, a Certified Professional Coach\, and a Transformational Leadership Expert. This program is designed to empower Glenview entrepreneurs to take immediate\, impactful actions\, equipping them with essential tools and strategies. Becky will help business owners develop personalized solutions\, create effective frameworks\, and facilitate shared learning to drive sustainable change. Peer collaboration is encouraged to create a supportive environment to tackle today's dynamic business challenges.\n\n\n\nIf your business wants to invest in the future of Glenview businesses\, reach out to Meghan at meghan@glenviewchamber.com to learn how you can sponsor this initiative for future sessions this year.
X-ALT-DESC;FMTTYPE=text/html:<p dir="ltr" style="margin: 12pt 0px\; padding: 0px 10px 18px\; border: 0px\; font-variant-numeric: normal\; font-variant-east-asian: normal\; font-variant-alternates: normal\; font-size-adjust: none\; font-kerning: auto\; font-optical-sizing: auto\; font-feature-settings: normal\; font-variation-settings: normal\; font-variant-position: normal\; font-variant-emoji: normal\; font-stretch: normal\; font-size: 14px\; line-height: 1.2\; font-family: AsapRegular\, Arial\, sans-serif\; vertical-align: baseline\; color: rgb(76\, 76\, 83)\; box-sizing: border-box\;">Glenview Chamber of Commerce is excited to continue Empower Glenview\, a free program designed to help local business leaders overcome challenges and foster growth. The second session\, sponsored by the Glenview Public Library\, will take place on Monday\, September 29\, 2025. You do not need to have attended the first session to come to the second. Lindsey Dorfman\, Executive Library Director\, expressed enthusiasm for the collaboration\, highlighting the library&#39\;s commitment to connecting entrepreneurs with valuable resources and expert guidance.<o:p style="font-variant-numeric: normal\; font-variant-east-asian: normal\; font-variant-alternates: normal\; font-size-adjust: none\; font-kerning: auto\; font-optical-sizing: auto\; font-feature-settings: normal\; font-variation-settings: normal\; font-variant-position: normal\; font-variant-emoji: normal\; font-stretch: normal\; line-height: 22px\; box-sizing: border-box\;"></o:p></p>\n\n<p style="margin: 0px 0px 1rem\; padding: 0px 10px 18px\; border: 0px\; font-variant-numeric: normal\; font-variant-east-asian: normal\; font-variant-alternates: normal\; font-size-adjust: none\; font-kerning: auto\; font-optical-sizing: auto\; font-feature-settings: normal\; font-variation-settings: normal\; font-variant-position: normal\; font-variant-emoji: normal\; font-stretch: normal\; font-size: 14px\; line-height: 22px\; font-family: AsapRegular\, Arial\, sans-serif\; vertical-align: baseline\; color: rgb(76\, 76\, 83)\; box-sizing: border-box\;">Becky Thalmann will&nbsp\;serve as the Business Coach in Residence&nbsp\;leading these transformative coaching sessions throughout 2025. She is the founder of Vivica Partners\, a Life &amp\; Business Strategist\, a Certified Professional Coach\, and a Transformational Leadership Expert. This program is designed to empower Glenview entrepreneurs to take immediate\, impactful actions\, equipping them with essential tools and strategies. Becky will help business owners develop personalized solutions\, create effective frameworks\, and facilitate shared learning to drive sustainable change. Peer collaboration is encouraged&nbsp\;to create a supportive environment to tackle today&rsquo\;s dynamic business challenges.<br style="font-variant-numeric: normal\; font-variant-east-asian: normal\; font-variant-alternates: normal\; font-size-adjust: none\; font-kerning: auto\; font-optical-sizing: auto\; font-feature-settings: normal\; font-variation-settings: normal\; font-variant-position: normal\; font-variant-emoji: normal\; font-stretch: normal\; line-height: 22px\; box-sizing: border-box\;" />\n<br style="font-variant-numeric: normal\; font-variant-east-asian: normal\; font-variant-alternates: normal\; font-size-adjust: none\; font-kerning: auto\; font-optical-sizing: auto\; font-feature-settings: normal\; font-variation-settings: normal\; font-variant-position: normal\; font-variant-emoji: normal\; font-stretch: normal\; line-height: 22px\; box-sizing: border-box\;" />\nIf your business wants to invest in the future of Glenview businesses\, reach out to Meghan at meghan@glenviewchamber.com to learn how you can sponsor this initiative for future sessions this year.&nbsp\;</p>\n
LOCATION:Glenview Public Library Community Room 1930 Glenview Road Glenview
UID:e.434.11210
SEQUENCE:3
DTSTAMP:20260420T073526Z
URL:http://business.glenviewchamber.com/events/details/empower-glenview-solving-challenges-growing-businesses-11210
END:VEVENT

END:VCALENDAR
