BEGIN:VCALENDAR
VERSION:2.0
PRODID:-//ChamberMaster//Event Calendar 2.0//EN
METHOD:PUBLISH
X-PUBLISHED-TTL:P3D
REFRESH-INTERVAL:P3D
CALSCALE:GREGORIAN
BEGIN:VEVENT
DTSTART:20200616T223000Z
DTEND:20200616T233000Z
X-MICROSOFT-CDO-ALLDAYEVENT:FALSE
SUMMARY:Engagement Ideas with Elders
DESCRIPTION:Co-presenters\, Julie Boggess and Kelly Burnett bring their experience and passion for serving elders. Julie is the grants manager and certified master trainer with the AGE-u-cate institute\, founder of Enlighten Eldercare and instructor and interim director of gerontology at Northern Illinois University. Kelly is the Life Guidance Director at Atria Glenview\, a certified dementia practitioner and certified dementia support group facilitator. They will share their knowledge and give practical tips on how to engage seniors\; especially those who are isolated at home during the pandemic\n\n \n\n\n\nRegister in advance for this meeting:\n\nhttps://us02web.zoom.us/meeting/register/tZwrce6vqzgjH9ceZq61aBvBD8L3cA9ankjB\n\n \n\nAfter registering\, you will receive a confirmation email containing information about joining the meeting.
X-ALT-DESC;FMTTYPE=text/html:<span style="color:#232333\;"><span style="font-family:helvetica\,sans-serif\;"><span style="font-size:10.5pt\;">Co-presenters\, Julie Boggess and Kelly Burnett bring their experience and passion for serving elders. Julie is the grants manager and certified master trainer with the AGE-u-cate institute\, founder of Enlighten Eldercare and instructor and interim director of gerontology at Northern Illinois University. Kelly is the Life Guidance Director at Atria Glenview\, a certified dementia practitioner and certified dementia support group facilitator. They will share their knowledge and give practical tips on how to engage seniors\; especially those who are isolated at home during the pandemic</span></span></span><br />\n&nbsp\;<br />\n<br />\n<span style="color:black\;"><span style="font-family:calibri\,sans-serif\;"><span style="font-size:11.0pt\;">Register in advance for this meeting:</span></span></span><br />\n<span style="color:black\;"><span style="font-family:calibri\,sans-serif\;"><span style="font-size:11.0pt\;"><a href="https://us02web.zoom.us/meeting/register/tZwrce6vqzgjH9ceZq61aBvBD8L3cA9ankjB">https://us02web.zoom.us/meeting/register/tZwrce6vqzgjH9ceZq61aBvBD8L3cA9ankjB</a></span></span></span><br />\n&nbsp\;<br />\n<span style="color:black\;"><span style="font-family:calibri\,sans-serif\;"><span style="font-size:11.0pt\;">After registering\, you will receive a confirmation email containing information about joining the meeting.</span></span></span>
LOCATION:
UID:e.434.10392
SEQUENCE:3
DTSTAMP:20260423T073457Z
URL:http://business.glenviewchamber.com/events/details/engagement-ideas-with-elders-10392
END:VEVENT

END:VCALENDAR
