BEGIN:VCALENDAR
VERSION:2.0
PRODID:-//ChamberMaster//Event Calendar 2.0//EN
METHOD:PUBLISH
X-PUBLISHED-TTL:P3D
REFRESH-INTERVAL:P3D
CALSCALE:GREGORIAN
BEGIN:VEVENT
DTSTART:20240625T160000Z
DTEND:20240625T170000Z
X-MICROSOFT-CDO-ALLDAYEVENT:FALSE
SUMMARY:Enhance Your Mood and Learn About Pearls!
DESCRIPTION:PEARLS is the Program to Encourage Active and Rewarding Lives\, an innovative and evidence-based program to help older adults recover from depression in just eight sessions. PEARLS also helps individuals to become more socially and physically active (within their level of ability)\, so they feel less isolated and that they are moving forward again. In this program\, you will learn more about PEARLS counseling and whether it might be right for you or someone you know.
X-ALT-DESC;FMTTYPE=text/html:PEARLS is the Program to Encourage Active and Rewarding Lives\, an innovative and evidence-based program to help older adults recover from depression in just eight sessions. PEARLS also helps individuals to become more socially and physically active (within their level of ability)\, so they feel less isolated and that they are moving forward again. In this program\, you will learn more about PEARLS counseling and whether it might be right for you or someone you know.
LOCATION:Online
UID:e.434.10965
SEQUENCE:3
DTSTAMP:20260421T062218Z
URL:http://business.glenviewchamber.com/events/details/enhance-your-mood-and-learn-about-pearls-10965
END:VEVENT

END:VCALENDAR
