BEGIN:VCALENDAR
VERSION:2.0
PRODID:-//ChamberMaster//Event Calendar 2.0//EN
METHOD:PUBLISH
X-PUBLISHED-TTL:P3D
REFRESH-INTERVAL:P3D
CALSCALE:GREGORIAN
BEGIN:VEVENT
DTSTART;VALUE=DATE:20180713
DTEND;VALUE=DATE:20180714
TRANSP:TRANSPARENT
X-MICROSOFT-CDO-ALLDAYEVENT:TRUE
SUMMARY:Evening of Art
DESCRIPTION:Artist reception for over 40 Glenview Art League Members and contemporary dance performance by Trifecta Dance Collaborative.\n\n\n\nBrowse fine art works of over 40 local artists and enjoy a contemporary dance performance.  Refreshments served.  Vote for YOUR favorite piece of art.
X-ALT-DESC;FMTTYPE=text/html:Artist reception for over 40 Glenview Art League Members and contemporary dance performance by Trifecta Dance Collaborative.<br />\n<br />\nBrowse fine art works of over 40 local artists and enjoy a contemporary dance performance. &nbsp\;Refreshments served. &nbsp\;Vote for YOUR favorite piece of art.
LOCATION:2651 Navy Blvd Glenview
UID:e.434.9795
SEQUENCE:3
DTSTAMP:20260425T123720Z
URL:http://business.glenviewchamber.com/events/details/evening-of-art-9795
END:VEVENT

END:VCALENDAR
