BEGIN:VCALENDAR
VERSION:2.0
PRODID:-//ChamberMaster//Event Calendar 2.0//EN
METHOD:PUBLISH
X-PUBLISHED-TTL:P3D
REFRESH-INTERVAL:P3D
CALSCALE:GREGORIAN
BEGIN:VEVENT
DTSTART:20251016T213000Z
DTEND:20251016T233000Z
X-MICROSOFT-CDO-ALLDAYEVENT:FALSE
SUMMARY:Exploration Open House
DESCRIPTION:Northwest Center Against Sexual Assault\, invites you to meet your primary sexual assault crisis center. Learn how we help keep your community safe!\n\nJoin our immersive mission event to discover the journey for survivors of sexual harm\, and how you can participate in making your homes and communities safer with Prevention Education. Also\, be the first to see what exciting changes are coming at Northwest CASA!\n\nLight appetizers and beverages will be provided. For any questions\, please email Kristen Barry at kbarry@nwcasa.org. RSVP by 10.15.2025 by using the link below.
X-ALT-DESC;FMTTYPE=text/html:Northwest Center Against Sexual Assault\, invites you to meet your primary sexual assault crisis center. Learn how we help keep your community safe!<br />\nJoin our immersive mission event to discover the journey for survivors of sexual harm\, and how you can participate in making your homes and communities safer with Prevention Education. Also\, be the first to see what exciting changes are coming at Northwest CASA!<br />\nLight appetizers and beverages will be provided. For any questions\, please email Kristen Barry at kbarry@nwcasa.org. RSVP by 10.15.2025 by using the link below.
LOCATION:Northwest CASA 415 W. Golf Road\, Suite 47 Arlington Heights\, IL 60005
UID:e.434.11514
SEQUENCE:3
DTSTAMP:20260420T060521Z
URL:http://business.glenviewchamber.com/events/details/exploration-open-house-11514
END:VEVENT

END:VCALENDAR
