BEGIN:VCALENDAR
VERSION:2.0
PRODID:-//ChamberMaster//Event Calendar 2.0//EN
METHOD:PUBLISH
X-PUBLISHED-TTL:P3D
REFRESH-INTERVAL:P3D
CALSCALE:GREGORIAN
BEGIN:VEVENT
DTSTART:20171011T160000Z
DTEND:20171011T170000Z
X-MICROSOFT-CDO-ALLDAYEVENT:FALSE
SUMMARY:F45 Fitness Ribbon Cutting Ceremony
DESCRIPTION:Ribbon Cutting Ceremony
X-ALT-DESC;FMTTYPE=text/html:Ribbon Cutting Ceremony
LOCATION:2300 Lehigh Avenue
UID:e.434.7303
SEQUENCE:3
DTSTAMP:20260425T225249Z
URL:http://business.glenviewchamber.com/events/details/f45-fitness-ribbon-cutting-ceremony-7303
END:VEVENT

END:VCALENDAR
