BEGIN:VCALENDAR
VERSION:2.0
PRODID:-//ChamberMaster//Event Calendar 2.0//EN
METHOD:PUBLISH
X-PUBLISHED-TTL:P3D
REFRESH-INTERVAL:P3D
CALSCALE:GREGORIAN
BEGIN:VEVENT
DTSTART;VALUE=DATE:20180421
DTEND;VALUE=DATE:20180422
TRANSP:TRANSPARENT
X-MICROSOFT-CDO-ALLDAYEVENT:TRUE
SUMMARY:Family Service Center Benefit
DESCRIPTION:Family Service Center Spring Promise Benefit\n\nEnjoy cocktails\, dinner\, raffles\, and dancing to\n\nlive music performed by Not For Profit.\n\n \n\nAt the event we will honor Boys Hope Girls Hope with the 2018 Heart of the Family Award.\n\nLook for online registration coming in February!
X-ALT-DESC;FMTTYPE=text/html:<p><span style="font-size:14px\;"><span style="font-family:tahoma\;"><span style="color:black\;">Family Service Center Spring Promise Benefit<br />\nEnjoy cocktails\, dinner\, raffles\, and dancing to</span><br />\n<span style="color:black\;">live music performed by&nbsp\;<em>Not For Profit</em>.</span><br />\n&nbsp\;<br />\n<span style="color:black\;">At the event&nbsp\;we will honor Boys Hope Girls Hope with the&nbsp\;</span><span style="color:black\;">2018 Heart of the Family Award.</span></span></span></p>\n\n<p><span style="font-size:14px\;"><span style="font-family:tahoma\;"><span style="color:black\;"><em>Look for online registration coming in February!</em></span></span></span></p>\n
LOCATION:The Glen Club - Glenview
UID:e.434.8711
SEQUENCE:3
DTSTAMP:20260425T153447Z
URL:http://business.glenviewchamber.com/events/details/family-service-center-benefit-8711
END:VEVENT

END:VCALENDAR
