BEGIN:VCALENDAR
VERSION:2.0
PRODID:-//ChamberMaster//Event Calendar 2.0//EN
METHOD:PUBLISH
X-PUBLISHED-TTL:P3D
REFRESH-INTERVAL:P3D
CALSCALE:GREGORIAN
BEGIN:VEVENT
DTSTART:20170910T220000Z
DTEND:20170911T030000Z
X-MICROSOFT-CDO-ALLDAYEVENT:FALSE
SUMMARY:Farm to Table Dinner with Celebrity Chef David Esau
DESCRIPTION:Farm to Table Dinner with Celebrity Chef David Esau\n\nReception\, 5 p.m. Dinner\, 6 p.m.\, Sunday\, September 10 at The Grove Redfield Estate Pavilion\, 1421 Milwaukee Ave.\n\n\n\nJoin The Grove Heritage Association for a delicious evening featuring the culinary magic of Chef David Esau. Proceeds will benefit Grove programs\, the preservation of Kennicott family history and the purchase and preservation of land. For information and to purchase tickets contact Jeff Beckman\, 847- 498-9843 or email ghamembers@gmail.com.
X-ALT-DESC;FMTTYPE=text/html:<p><strong><span style="border:none windowtext 1.0pt\;padding:0in\;"><span style="color:#151B26\;">Farm to Table Dinner with Celebrity Chef David Esau</span></span></strong><br />\n<strong><span style="color:#151B26\;">Reception\, 5 p.m. Dinner\, 6 p.m.\, Sunday\, September 10 at The Grove Redfield Estate Pavilion\, 1421 Milwaukee Ave.</span></strong></p>\n\n<p><br />\n<span style="color:#151B26\;">Join The Grove Heritage Association for a delicious evening featuring the culinary magic of Chef David Esau. Proceeds will benefit Grove programs\, the preservation of Kennicott family history and the purchase and preservation of land. <span style="background-image:initial\;background-position:initial\;background-size:initial\;background-repeat:initial\;background-attachment:initial\;background-origin:initial\;background-clip:initial\;">For information and to purchase tickets contact Jeff Beckman\, 847- 498-9843 or email </span></span><span style="background-image:initial\;background-position:initial\;background-size:initial\;background-repeat:initial\;background-attachment:initial\;background-origin:initial\;background-clip:initial\;"><a href="mailto:ghamembers@gmail.com">ghamembers@gmail.com</a><span style="color:#151B26\;">.</span></span><br />\n&nbsp\;</p>\n
LOCATION:The Grove Redfield Estate Pavilion\, 1421 Milwaukee Ave.
UID:e.434.7291
SEQUENCE:3
DTSTAMP:20260426T001629Z
URL:http://business.glenviewchamber.com/events/details/farm-to-table-dinner-with-celebrity-chef-david-esau-7291
END:VEVENT

END:VCALENDAR
