BEGIN:VCALENDAR
VERSION:2.0
PRODID:-//ChamberMaster//Event Calendar 2.0//EN
METHOD:PUBLISH
X-PUBLISHED-TTL:P3D
REFRESH-INTERVAL:P3D
CALSCALE:GREGORIAN
BEGIN:VEVENT
DTSTART:20170817T143000Z
DTEND:20170817T170000Z
X-MICROSOFT-CDO-ALLDAYEVENT:FALSE
SUMMARY:Federal Budget Workshop
DESCRIPTION:Glenview Public Library & Representative Brad Schneider present:\n\nFederal Budget Workshop
X-ALT-DESC;FMTTYPE=text/html:Glenview Public Library &amp\; Representative Brad Schneider present:<br />\n<span style="font-size:14px\;"><strong>Federal Budget Workshop</strong></span>
LOCATION:Glenview Public Library 1930 Glenview Road Glenview IL 60025
UID:e.434.7296
SEQUENCE:3
DTSTAMP:20260426T014221Z
URL:http://business.glenviewchamber.com/events/details/federal-budget-workshop-7296
END:VEVENT

END:VCALENDAR
