BEGIN:VCALENDAR
VERSION:2.0
PRODID:-//ChamberMaster//Event Calendar 2.0//EN
METHOD:PUBLISH
X-PUBLISHED-TTL:P3D
REFRESH-INTERVAL:P3D
CALSCALE:GREGORIAN
BEGIN:VEVENT
DTSTART:20251124T223000Z
DTEND:20251125T000000Z
X-MICROSOFT-CDO-ALLDAYEVENT:FALSE
SUMMARY:Fernando’s Cooking: Baked Apple Nachos
DESCRIPTION:Celebrate fall with apple nachos layered with caramel\, chocolate chips\, and crunchy toppings. Sweet\, shareable\, and full of seasonal flavor! (Grades K-5th)
X-ALT-DESC;FMTTYPE=text/html:Celebrate fall with apple nachos&mdash\;layered with caramel\, chocolate chips\, and crunchy toppings. Sweet\, shareable\, and full of seasonal flavor! (Grades K-5th)
LOCATION:North Suburban YMCA 2705 Techny Rd. Northbrook. IL 60062
UID:e.434.11251
SEQUENCE:3
DTSTAMP:20260422T192443Z
URL:http://business.glenviewchamber.com/events/details/fernando-s-cooking-baked-apple-nachos-11251
END:VEVENT

END:VCALENDAR
