BEGIN:VCALENDAR
VERSION:2.0
PRODID:-//ChamberMaster//Event Calendar 2.0//EN
METHOD:PUBLISH
X-PUBLISHED-TTL:P3D
REFRESH-INTERVAL:P3D
CALSCALE:GREGORIAN
BEGIN:VEVENT
DTSTART:20250912T213000Z
DTEND:20250912T230000Z
X-MICROSOFT-CDO-ALLDAYEVENT:FALSE
SUMMARY:Fernando’s Cooking: Fruit Salsa With Cinnamon Chips
DESCRIPTION:9/12/2025
X-ALT-DESC;FMTTYPE=text/html:9/12/2025
LOCATION:North Suburban YMCA 2705 Techny Rd. Northbrook. IL 60062
UID:e.434.11249
SEQUENCE:3
DTSTAMP:20260420T073428Z
URL:http://business.glenviewchamber.com/events/details/fernando-s-cooking-fruit-salsa-with-cinnamon-chips-11249
END:VEVENT

END:VCALENDAR
