BEGIN:VCALENDAR
VERSION:2.0
PRODID:-//ChamberMaster//Event Calendar 2.0//EN
METHOD:PUBLISH
X-PUBLISHED-TTL:P3D
REFRESH-INTERVAL:P3D
CALSCALE:GREGORIAN
BEGIN:VEVENT
DTSTART:20251014T230000Z
DTEND:20251015T003000Z
X-MICROSOFT-CDO-ALLDAYEVENT:FALSE
SUMMARY:Flash Fiction Adult Art Workshop: Spooky Stories In A Snap!
DESCRIPTION:Flash fiction is short\, powerful storytelling that packs a punch. In this Halloween-themed workshop\, participants will learn what makes flash fiction unique\, explore spooky prompts\, and get guided support from an experienced instructor to write their own eerie mini-masterpiece. No writing experience needed just your imagination and a love for stories!
X-ALT-DESC;FMTTYPE=text/html:Flash fiction is short\, powerful storytelling that packs a punch. In this Halloween-themed workshop\, participants will learn what makes flash fiction unique\, explore spooky prompts\, and get guided support from an experienced instructor to write their own eerie mini-masterpiece. No writing experience needed&mdash\;just your imagination and a love for stories!
LOCATION:North Suburban YMCA 2705 Techny Rd. Northbrook. IL 60062
UID:e.434.11271
SEQUENCE:3
DTSTAMP:20260420T074103Z
URL:http://business.glenviewchamber.com/events/details/flash-fiction-adult-art-workshop-spooky-stories-in-a-snap-11271
END:VEVENT

END:VCALENDAR
