BEGIN:VCALENDAR
VERSION:2.0
PRODID:-//ChamberMaster//Event Calendar 2.0//EN
METHOD:PUBLISH
X-PUBLISHED-TTL:P3D
REFRESH-INTERVAL:P3D
CALSCALE:GREGORIAN
BEGIN:VEVENT
DTSTART:20170923T130000Z
DTEND:20170923T160000Z
X-MICROSOFT-CDO-ALLDAYEVENT:FALSE
SUMMARY:Flying Feet 5K & Fun Run
DESCRIPTION:Let your feet fly around Gallery Park in this exciting 5K race for all levels. Afterwards\, the whole family can take part in the kid-friendly one-mile Fun Run. All participants receive a performance T-shirt\, post-race refreshments and awards ceremony. Star for inflatables\, live DJ music\, historic Naval Air Station Glenview displays and Jr. Flight Academy kids' activities. Register at getmeregistered.com until Sept. 20 or call 847-724-5670 for more information.
X-ALT-DESC;FMTTYPE=text/html:Let your feet fly around Gallery Park in this exciting 5K race for all levels. Afterwards\, the whole family can take part in the kid-friendly one-mile Fun Run. All participants receive a performance T-shirt\, post-race refreshments and awards ceremony. Star for inflatables\, live DJ music\, historic Naval Air Station Glenview displays and Jr. Flight Academy kids&rsquo\; activities. Register at getmeregistered.com until Sept. 20 or call 847-724-5670 for more information.<br />\n
LOCATION:Gallery Park
UID:e.434.7294
SEQUENCE:3
DTSTAMP:20260426T001509Z
URL:http://business.glenviewchamber.com/events/details/flying-feet-5k-fun-run-7294
END:VEVENT

END:VCALENDAR
