BEGIN:VCALENDAR
VERSION:2.0
PRODID:-//ChamberMaster//Event Calendar 2.0//EN
METHOD:PUBLISH
X-PUBLISHED-TTL:P3D
REFRESH-INTERVAL:P3D
CALSCALE:GREGORIAN
BEGIN:VEVENT
DTSTART:20180512T133000Z
DTEND:20180512T203000Z
X-MICROSOFT-CDO-ALLDAYEVENT:FALSE
SUMMARY:Fonseca Martial Arts Glenview Grand Opening
DESCRIPTION:Join us for the Grand Opening Celebration of our Glenview Dojo\, Saturday\, May 12th\, 8:30 - 3:30 pm. Try a FREE class. Break boards. Win prizes. Stop by all day for food\, fun and more!
X-ALT-DESC;FMTTYPE=text/html:Join us for the Grand Opening Celebration of our Glenview Dojo\, Saturday\, May 12th\, 8:30 - 3:30 pm. Try a FREE class. Break boards. Win prizes. Stop by all day for food\, fun and more!
LOCATION:1976 Tower Drive Glenview
UID:e.434.9781
SEQUENCE:3
DTSTAMP:20260425T135810Z
URL:http://business.glenviewchamber.com/events/details/fonseca-martial-arts-glenview-grand-opening-9781
END:VEVENT

END:VCALENDAR
