BEGIN:VCALENDAR
VERSION:2.0
PRODID:-//ChamberMaster//Event Calendar 2.0//EN
METHOD:PUBLISH
X-PUBLISHED-TTL:P3D
REFRESH-INTERVAL:P3D
CALSCALE:GREGORIAN
BEGIN:VEVENT
DTSTART:20180118T230000Z
DTEND:20180119T010000Z
X-MICROSOFT-CDO-ALLDAYEVENT:FALSE
SUMMARY:FREE Community Event - Brain Health
DESCRIPTION:Brain health as you age can make a difference! We all want to stay healthy and independent as we get older. Join us for this informative presentation as we learn about the lifestyle habits you can adopt to maintain or potentially improve your brain health as you age.\n\n\n\nPRESENTER: Anne Marie Morgan\, MPH\, CPT\, is a project manager for the Center for Brain Health.
X-ALT-DESC;FMTTYPE=text/html:<p><span style="color:#363434\;">Brain health as you age can make a difference! We all want to stay</span> <span style="color:#363434\;">healthy and independent as we get <span style="letter-spacing:-.15pt\;">older.</span> Join us for this informative</span> <span style="color:#363434\;">presentation as we learn about the lifestyle habits you can adopt to</span> <span style="color:#363434\;">maintain or potentially improve your brain health as you age.</span></p>\n\n<p><br />\n<span style="color:#363434\;"><span style="font-family:times new roman\,serif\;"><span style="font-size:9.5pt\;">PRESENTER: Anne Marie Morgan\, MPH\, CPT\, is a project manager for the</span></span></span> <span style="color:#363434\;"><span style="font-family:times new roman\,serif\;"><span style="font-size:9.5pt\;">Center for Brain Health.</span></span></span><br />\n&nbsp\;</p>\n
LOCATION:Emerald Place\, 1879 Chestnut Avenue\, Glenview\, IL 60025
UID:e.434.8713
SEQUENCE:3
DTSTAMP:20260425T190603Z
URL:http://business.glenviewchamber.com/events/details/free-community-event-brain-health-8713
END:VEVENT

END:VCALENDAR
