BEGIN:VCALENDAR
VERSION:2.0
PRODID:-//ChamberMaster//Event Calendar 2.0//EN
METHOD:PUBLISH
X-PUBLISHED-TTL:P3D
REFRESH-INTERVAL:P3D
CALSCALE:GREGORIAN
BEGIN:VEVENT
DTSTART;VALUE=DATE:20251025
DTEND;VALUE=DATE:20251026
TRANSP:TRANSPARENT
X-MICROSOFT-CDO-ALLDAYEVENT:TRUE
SUMMARY:Free Digital SAT & ACT Diagnostic Test
DESCRIPTION:Free Digital SAT & ACT Diagnostic Test\n\nAre you ready to take your testing skills to the next level?\n\n-Practice testing\n\n-Know baseline scores\n\n-Evaluate strengths & weaknesses in test taking\n\nSign up: 9/20\, 9/27\, 10/25\, 11/1\, 11/22\n\nhttps://excellerate.studio/free-digital-diagnostic-test-registration/
X-ALT-DESC;FMTTYPE=text/html:<p><span style="font-size: 24px\;"><span style="color: rgb(255\, 255\, 255)\;"><strong><u><span style="font-family: roboto\, sans-serif\;"><span style="background-color: rgb(75\, 0\, 130)\;">Free Digital SAT &amp\; ACT Diagnostic Test</span></span></u></strong></span></span></p>\n\n<p><span style="font-size: 18px\;"><em>Are you ready to take your testing skills to the next level?</em></span></p>\n\n<p><span style="color: rgb(75\, 0\, 130)\;"><em><span style="background-color: transparent\; font-family: roboto\, sans-serif\; font-size: 13.5pt\;">-Practice testing</span></em></span></p>\n\n<p><span style="color: rgb(75\, 0\, 130)\;"><em><span style="background-color: transparent\; font-family: roboto\, sans-serif\; font-size: 13.5pt\;">-Know baseline scores</span></em></span></p>\n\n<p><span style="color: rgb(75\, 0\, 130)\;"><em><span style="background-color: transparent\; font-family: roboto\, sans-serif\; font-size: 13.5pt\;">-Evaluate strengths &amp\; weaknesses in test taking</span></em></span></p>\n\n<p><span style="font-size: 24px\;">Sign up:&nbsp\;<a href="https://excellerate.studio/free-digital-diagnostic-test-registration/" style="text-decoration-line: none\;"><em>9/20\, 9/27\, 10/25\, 11/1\, 11/22</em></a></span></p>\n\n<div><span style="color: rgb(0\, 0\, 255)\;">https://excellerate.studio/free-digital-diagnostic-test-registration/</span></div>\n
LOCATION:
UID:e.434.11518
SEQUENCE:3
DTSTAMP:20260420T060203Z
URL:http://business.glenviewchamber.com/events/details/free-digital-sat-act-diagnostic-test-11518
END:VEVENT

END:VCALENDAR
