BEGIN:VCALENDAR
VERSION:2.0
PRODID:-//ChamberMaster//Event Calendar 2.0//EN
METHOD:PUBLISH
X-PUBLISHED-TTL:P3D
REFRESH-INTERVAL:P3D
CALSCALE:GREGORIAN
BEGIN:VEVENT
DTSTART:20191016T164500Z
DTEND:20191016T181500Z
X-MICROSOFT-CDO-ALLDAYEVENT:FALSE
SUMMARY:Free Lunch & Learn: Beware of Spooky Cyber Threats
DESCRIPTION:Computer viruses. Ransomware. Data breaches. (DoS) attacks. These may sound like scare tactics\, but cybercrime is a very real threat to businesses and organizations of all sizes. Just in 2016\, malicious cyber activity cost businesses in the U.S. between $57 billion and $109 billion. What's more frightening\, cyberattacks are increasingly common and the tactics are becoming more sophisticated and more unexpected.\n\nLearn about how to protect your business against Cyber Attacks.\n\nAt this free Lunch & Learn\, HTML Global IT and Web professionals will answer your questions about the Cyber Threats your business is at risk of facing in 2019. We share the top\, industry-standard tools\, and best practices to keep your business and customers' data safe online.\n\nWhether you are interested in learning about Cyber Security\, are looking to network with other professionals\, or just want to stop by for a bite to eat and some good conversation\, we would love to see you there!
X-ALT-DESC;FMTTYPE=text/html:<p>Computer viruses. Ransomware. Data breaches. (DoS) attacks. These may sound like scare tactics\, but cybercrime is a very real threat to businesses and organizations of all sizes. Just in 2016\, malicious cyber activity cost businesses in the U.S. between $57 billion and $109 billion. What&#39\;s more frightening\, cyberattacks are increasingly common and the tactics are becoming more sophisticated and more&nbsp\;<em>unexpected</em>.</p>\n\n<h2>Learn about how to protect your business against Cyber Attacks.</h2>\n\n<p>At this free Lunch &amp\; Learn\, HTML Global IT and Web professionals will answer your questions about the Cyber Threats your business is at risk of facing in 2019. We share the top\, industry-standard tools\, and best practices to keep your business and customers&#39\; data safe online.</p>\n\n<p>Whether you are interested in learning about Cyber Security\, are looking to network with other professionals\, or just want to stop by for a bite to eat and some good conversation\, we would love to see you there!</p>\n\n<p>&nbsp\;</p>\n
LOCATION:HTML Global 2111 Chestnut Ave Suite 245 Glenview\, IL 60025
UID:e.434.10253
SEQUENCE:3
DTSTAMP:20260424T164340Z
URL:http://business.glenviewchamber.com/events/details/free-lunch-learn-beware-of-spooky-cyber-threats-10253
END:VEVENT

END:VCALENDAR
