BEGIN:VCALENDAR
VERSION:2.0
PRODID:-//ChamberMaster//Event Calendar 2.0//EN
METHOD:PUBLISH
X-PUBLISHED-TTL:P3D
REFRESH-INTERVAL:P3D
CALSCALE:GREGORIAN
BEGIN:VEVENT
DTSTART:20191019T140000Z
DTEND:20191019T180000Z
X-MICROSOFT-CDO-ALLDAYEVENT:FALSE
SUMMARY:Free Paper Shredding & Recycling Event
DESCRIPTION:Residents of Northfield\, Northbrook and Glenview are invited to bring their personal documents to the Northfield Road District garage for free secure shredding and recycling on Saturday\, October 19 from 9 am   1pm.\n\n	Sensitive documents only.\n	Please remove staples and clips before you come.\n	No business recycling accepted.\n\n\nThank you to our Community Partners! \n\n\n	Senator Laura Fine\, 9th District\n	State Representative Jennifer Gong-Gershowitz\, 17th District\n	Commissioner Scott Britton\, Cook County Commissioner\, 14th District
X-ALT-DESC;FMTTYPE=text/html:Residents of Northfield\, Northbrook and Glenview are invited to bring their personal documents to the Northfield Road District garage for free secure shredding and recycling on Saturday\, October 19 from 9 am &ndash\; 1pm.\n<ul>\n	<li>Sensitive documents only.</li>\n	<li>Please remove staples and clips before you come.</li>\n	<li>No business recycling accepted.</li>\n</ul>\n\n<div style="text-align: center\;"><strong>Thank you to our Community Partners! </strong></div>\n\n<ul>\n	<li><strong>Senator Laura Fine</strong>\, 9th District</li>\n	<li><strong>State Representative Jennifer Gong-Gershowitz\,</strong> 17th District</li>\n	<li><strong>Commissioner Scott Britton\,</strong> Cook County Commissioner\, 14th District</li>\n</ul>\n
LOCATION:Northfield Township Road District Garage 237 Melvin Drive\, Northbrook
UID:e.434.10255
SEQUENCE:3
DTSTAMP:20260424T163913Z
URL:http://business.glenviewchamber.com/events/details/free-paper-shredding-recycling-event-10255
END:VEVENT

END:VCALENDAR
