BEGIN:VCALENDAR
VERSION:2.0
PRODID:-//ChamberMaster//Event Calendar 2.0//EN
METHOD:PUBLISH
X-PUBLISHED-TTL:P3D
REFRESH-INTERVAL:P3D
CALSCALE:GREGORIAN
BEGIN:VEVENT
DTSTART:20190319T180000Z
DTEND:20190319T230000Z
X-MICROSOFT-CDO-ALLDAYEVENT:FALSE
SUMMARY:Free Virtual Dementia Experience
DESCRIPTION:Come see\, hear\, adn experience the complex world of those facing the challenge of living with dementia.  Find out how you would respond to basic instructions as we create the reality of what it is like to suffer from the disease.
X-ALT-DESC;FMTTYPE=text/html:Come see\, hear\, adn experience the complex world of those facing the challenge of living with dementia.&nbsp\; Find out how you would respond to basic instructions as we create the reality of what it is like to suffer from the disease.
LOCATION:Sessions scheduled every 30 minutes from 1pm -6pm Emerald Place\, 1879 Chestnut Ave\, Glenview
UID:e.434.10116
SEQUENCE:3
DTSTAMP:20260425T034743Z
URL:http://business.glenviewchamber.com/events/details/free-virtual-dementia-experience-10116
END:VEVENT

END:VCALENDAR
