BEGIN:VCALENDAR
VERSION:2.0
PRODID:-//ChamberMaster//Event Calendar 2.0//EN
METHOD:PUBLISH
X-PUBLISHED-TTL:P3D
REFRESH-INTERVAL:P3D
CALSCALE:GREGORIAN
BEGIN:VEVENT
DTSTART:20180419T220000Z
DTEND:20180420T000000Z
X-MICROSOFT-CDO-ALLDAYEVENT:FALSE
SUMMARY:Funtopia Networking Event
DESCRIPTION:Bring your sneakers\, wear comfortable clothing! At this month's networking event not only will you meet great people but you will get to PLAY! Join us this month at Funtopia Adventure Park A large\, active entertainment facility that combines sports and fun with numerous attractions such as indoor climbing walls\, a rope course and more! Enjoy bites and beverages and network with fellow CNSCVB members. This event is complimentary and for members only. \n\n \n\nParking garage available west of the entrance.
X-ALT-DESC;FMTTYPE=text/html:<span style="font-size:12px\;"><span style="color:black\;"><span style="font-family:tahoma\,sans-serif\;">Bring your sneakers\, wear comfortable clothing! At this month&#39\;s networking event not only will you meet great people but you will get to PLAY! Join us this month at Funtopia Adventure Park A large\, active entertainment facility that combines sports and fun with numerous attractions such as indoor climbing walls\, a rope course and more! Enjoy&nbsp\;bites and beverages and network with fellow CNSCVB members. This event is complimentary and for members only.&nbsp\;</span></span><br />\n&nbsp\;<br />\n<span style="color:black\;"><span style="font-family:tahoma\,sans-serif\;">Parking garage available west of the entrance.&nbsp\;</span></span></span>
LOCATION:Funtopia 2050 Tower Drive The Glen Glenview\, IL
UID:e.434.8766
SEQUENCE:3
DTSTAMP:20260425T150921Z
URL:http://business.glenviewchamber.com/events/details/funtopia-networking-event-8766
END:VEVENT

END:VCALENDAR
