BEGIN:VCALENDAR
VERSION:2.0
PRODID:-//ChamberMaster//Event Calendar 2.0//EN
METHOD:PUBLISH
X-PUBLISHED-TTL:P3D
REFRESH-INTERVAL:P3D
CALSCALE:GREGORIAN
BEGIN:VEVENT
DTSTART:20180307T163000Z
DTEND:20180307T203000Z
X-MICROSOFT-CDO-ALLDAYEVENT:FALSE
SUMMARY:Games Galore: Mahjongg\, Canasta\, Bridge & More!
DESCRIPTION:The Chicago Lighthouse Associate Board presents...\n\nGames Galore: Mahjongg\, Canasta\, Bridge & More!\n\nPlease bring your Mahjongg set\, Canasta cards\, Bridge cards or other games to enjoy! Lunch will be served.\n\n\n\nProceeds from this event will help support vital programs and services of The Chicago Lighthouse\, serving the blind\, visually impaired\, disabled and Veteran communities.\nBrowse a variety of pop-up shops offering up some fantastic items such as: jewelry\, purses\, housewares\, hostess gifts and more. Vendors will donate 20% of their sales to The Lighthouse!
X-ALT-DESC;FMTTYPE=text/html:<p><span style="font-size:14px"><samp>The Chicago Lighthouse Associate Board presents...<br />\n<strong>Games Galore: Mahjongg\, Canasta\, Bridge &amp\; More!</strong><br />\nPlease bring your Mahjongg set\, Canasta cards\, Bridge cards or other games to enjoy! Lunch will be served.<br />\n<br />\n<strong>Proceeds from this event will help support vital programs and services of The Chicago Lighthouse\, serving the blind\, visually impaired\, disabled and Veteran communities.</strong></samp></span></p>\n<span style="font-size:14px"><samp><span style="color:rgb(0\, 0\, 0)">Browse a variety of pop-up shops offering up some fantastic items such as: jewelry\, purses\, housewares\, hostess gifts and more. Vendors will donate 20% of their sales to The Lighthouse!</span></samp></span>
LOCATION:Northmoor Country Club 820 Edgewood Road Highland Park\, IL 60035
UID:e.434.8716
SEQUENCE:3
DTSTAMP:20260425T163652Z
URL:http://business.glenviewchamber.com/events/details/games-galore-mahjongg-canasta-bridge-more-8716
END:VEVENT

END:VCALENDAR
