BEGIN:VCALENDAR
VERSION:2.0
PRODID:-//ChamberMaster//Event Calendar 2.0//EN
METHOD:PUBLISH
X-PUBLISHED-TTL:P3D
REFRESH-INTERVAL:P3D
CALSCALE:GREGORIAN
BEGIN:VEVENT
DTSTART;VALUE=DATE:20180623
DTEND;VALUE=DATE:20180624
TRANSP:TRANSPARENT
X-MICROSOFT-CDO-ALLDAYEVENT:TRUE
SUMMARY:Glenview 3v3 Summer Soccer Fest
DESCRIPTION:Come and participate in the Glenview Park Foundation's annual fundraiser\, the Glenview 3v3 Summer Soccer Fest!  This event is a celebration of our young athletes and the sport of soccer.  Both recreational (silver) and competitive (gold) divisions are offered so that everyone of all ability levels can participate.  Proceeds from this event help fund the Glenview Park Foundation and its mission to enhance recreational opportunities for all of Glenview.  Registration starts in March and closes June 16 or earlier if we reach our maximum number of teams.
X-ALT-DESC;FMTTYPE=text/html:<span style="color:#1F497D\;">Come and participate in the Glenview Park Foundation&rsquo\;s annual fundraiser\, the Glenview 3v3 Summer Soccer Fest!&nbsp\; This event is a celebration of our young athletes and the sport of soccer.&nbsp\; Both recreational (silver) and competitive (gold) divisions are offered so that everyone of all ability levels can participate.&nbsp\; Proceeds from this event help fund the Glenview Park Foundation and its mission to enhance recreational opportunities for all of Glenview.&nbsp\; Registration starts in March and closes June 16 or earlier if we reach our maximum number of teams.</span>
LOCATION:Attea Middle School Soccer Fields
UID:e.434.7320
SEQUENCE:3
DTSTAMP:20260425T124850Z
URL:http://business.glenviewchamber.com/events/details/glenview-3v3-summer-soccer-fest-7320
END:VEVENT

END:VCALENDAR
