BEGIN:VCALENDAR
VERSION:2.0
PRODID:-//ChamberMaster//Event Calendar 2.0//EN
METHOD:PUBLISH
X-PUBLISHED-TTL:P3D
REFRESH-INTERVAL:P3D
CALSCALE:GREGORIAN
BEGIN:VEVENT
DTSTART:20180519T190000Z
DTEND:20180519T203000Z
X-MICROSOFT-CDO-ALLDAYEVENT:FALSE
SUMMARY:Glenview ATA Blackbelt Academy
DESCRIPTION:Glenview ATA Blackbelt Academy\n\nMother's Day fitness boot camp and Self defense Seminar on May 19th 2 pm to 3:30 pm. Open to all woman for $20 and refreshments will be served. \n\nCall 847-832-0900 to reserve your spot.
X-ALT-DESC;FMTTYPE=text/html:<p>Glenview ATA Blackbelt Academy</p>\n\n<p>Mother&#39\;s Day fitness boot camp and Self defense Seminar on May 19th 2 pm to 3:30 pm. Open to all woman for $20 and refreshments will be served.&nbsp\;<br />\nCall 847-832-0900 to reserve your spot.<br />\n</p>\n
LOCATION:3210 W. Lake Avenue Glenview
UID:e.434.9782
SEQUENCE:3
DTSTAMP:20260425T135614Z
URL:http://business.glenviewchamber.com/events/details/glenview-ata-blackbelt-academy-9782
END:VEVENT

END:VCALENDAR
