BEGIN:VCALENDAR
VERSION:2.0
PRODID:-//ChamberMaster//Event Calendar 2.0//EN
METHOD:PUBLISH
X-PUBLISHED-TTL:P3D
REFRESH-INTERVAL:P3D
CALSCALE:GREGORIAN
BEGIN:VEVENT
DTSTART:20190327T230000Z
DTEND:20190328T010000Z
X-MICROSOFT-CDO-ALLDAYEVENT:FALSE
SUMMARY:Glenview Business Book Club
DESCRIPTION:Looking to improve your game?\n\nHave you been meaning to read these books for awhile?\n\nJoin us for an evening at the Glenview Grind\, led by Pivotup! Business Coach\, Kim Kleeman and become part of a community of professionals looking to grow and achieve more in 2019.\n\nHow It Works\n\nEach month we pick a Book\, link from Amazon is included for your convenience. Facilitated Discussion will be worthwhile!\n\n$10 Tickets include:\n\n\n	\n	A thoughtful discussion\n	\n	\n	Small drink from Glenview Grind\n	\n	\n	Goodies/Snacks provided by Glenview Grind\n	\n\n\n \n\nWhat To Read\n\nBooks:\n\nMarch: You Are A Badass by Jen Sincero https://amzn.to/2Gm6Ope\n\nApril: Emyth Revisited: Why Most Small Businesses Don't Work and What To Do About It By Michael Gerber https://amzn.to/2GFWAzn\n\nMay: StrengthFinder 2.0 by Don Clifton & Gallup https://amzn.to/2IdZtd5\n\nJune: GRIT: The New Science of What it Takes to Persevere\, Flourish\, Succeed by Paul G. Stoltz\, PhD https://amzn.to/2WXqR2x\n\nJuly: You Are a Badass at Making Money by Jen Sincerohttps://amzn.to/2IgDdzo\n\nAugust: What Every Body is Saying by Joe Navarro https://amzn.to/2IdGFuI\n\nSeptember: Think Like A Marketer by Kate Colbert https://amzn.to/2GoR2Kv\n\nOctober: How to Be a Powerful Speaker by Sarah Victory https://amzn.to/2N4LJjH\n\nNovember: The 5 AM Club: Own Your Morning. Elevate Your Life. by Robin Sharma https://amzn.to/2IctDgR\n\nDecember: The Go-Giver by Bob Burg and John David Mann https://amzn.to/2GIG6qe\n\n \n\nNOTES:\n\nNot sure if you can make it? Pay at the Door as well!\n\nAvid reader? Love this idea? Buy A Year's Worth of BookClub for only $99\n\n** Links to the books on Amazon is an affiliate link.
X-ALT-DESC;FMTTYPE=text/html:<h2 style="margin: 0px\; padding: 0px\; color: rgb(30\, 10\, 60)\; font-size: 17px\; line-height: 21px\; font-weight: 600\; font-family: &quot\;Neue Plak&quot\;\, -apple-system\, BlinkMacSystemFont\, Roboto\, &quot\;Helvetica Neue&quot\;\, Helvetica\, Tahoma\, Arial\, sans-serif\; letter-spacing: 0.5px\;">Looking to improve your game?</h2>\n\n<h2 style="margin: 0px\; padding: 10px 0px 0px\; color: rgb(30\, 10\, 60)\; font-size: 17px\; line-height: 21px\; font-weight: 600\; font-family: &quot\;Neue Plak&quot\;\, -apple-system\, BlinkMacSystemFont\, Roboto\, &quot\;Helvetica Neue&quot\;\, Helvetica\, Tahoma\, Arial\, sans-serif\; letter-spacing: 0.5px\;">Have you been meaning to read these books for awhile?</h2>\n\n<p style="margin: 0px\; padding: 10px 0px 0px\; color: rgb(111\, 114\, 135)\; font-family: &quot\;Neue Plak&quot\;\, -apple-system\, BlinkMacSystemFont\, Roboto\, &quot\;Helvetica Neue&quot\;\, Helvetica\, Tahoma\, Arial\, sans-serif\; font-size: 15px\; letter-spacing: 0.5px\;">Join us for an evening at the&nbsp\;<span style="font-weight: 700\; padding-top: 0px\;">Glenview Grind\,</span>&nbsp\;led by Pivotup! Business Coach\,&nbsp\;<span style="font-weight: 700\;">Kim Kleeman</span>&nbsp\;and become part of a community of professionals looking to grow and achieve more in 2019.</p>\n\n<p style="margin: 0px\; padding: 10px 0px 0px\; color: rgb(111\, 114\, 135)\; font-family: &quot\;Neue Plak&quot\;\, -apple-system\, BlinkMacSystemFont\, Roboto\, &quot\;Helvetica Neue&quot\;\, Helvetica\, Tahoma\, Arial\, sans-serif\; font-size: 15px\; letter-spacing: 0.5px\;"><span style="font-weight: 700\; padding-top: 0px\;">How It Works</span></p>\n\n<p style="margin: 0px\; padding: 10px 0px 0px\; color: rgb(111\, 114\, 135)\; font-family: &quot\;Neue Plak&quot\;\, -apple-system\, BlinkMacSystemFont\, Roboto\, &quot\;Helvetica Neue&quot\;\, Helvetica\, Tahoma\, Arial\, sans-serif\; font-size: 15px\; letter-spacing: 0.5px\;">Each month we pick a Book\, link from Amazon is included for your convenience. Facilitated Discussion will be worthwhile!</p>\n\n<p style="margin: 0px\; padding: 10px 0px 0px\; color: rgb(111\, 114\, 135)\; font-family: &quot\;Neue Plak&quot\;\, -apple-system\, BlinkMacSystemFont\, Roboto\, &quot\;Helvetica Neue&quot\;\, Helvetica\, Tahoma\, Arial\, sans-serif\; font-size: 15px\; letter-spacing: 0.5px\;">$10 Tickets include:</p>\n\n<ul style="margin: 0px\; padding-top: 10px\; padding-right: 0px\; padding-left: 2em\; list-style-position: initial\; list-style-image: initial\; color: rgb(111\, 114\, 135)\; font-family: &quot\;Neue Plak&quot\;\, -apple-system\, BlinkMacSystemFont\, Roboto\, &quot\;Helvetica Neue&quot\;\, Helvetica\, Tahoma\, Arial\, sans-serif\; font-size: 15px\; letter-spacing: 0.5px\;">\n	<li style="margin: 0px\; padding: 0px\;">\n	<h3 style="margin: 0px\; padding: 0px\; color: rgb(30\, 10\, 60)\; font-size: 17px\; line-height: 21px\;">A thoughtful discussion</h3>\n	</li>\n	<li style="margin: 0px\; padding: 5px 0px 0px\;">\n	<h3 style="margin: 0px\; padding: 0px\; color: rgb(30\, 10\, 60)\; font-size: 17px\; line-height: 21px\;">Small drink from Glenview Grind</h3>\n	</li>\n	<li style="margin: 0px\; padding: 5px 0px 0px\;">\n	<h3 style="margin: 0px\; padding: 0px\; color: rgb(30\, 10\, 60)\; font-size: 17px\; line-height: 21px\;">Goodies/Snacks provided by Glenview Grind</h3>\n	</li>\n</ul>\n\n<p style="margin: 0px\; padding: 10px 0px 0px\; color: rgb(111\, 114\, 135)\; font-family: &quot\;Neue Plak&quot\;\, -apple-system\, BlinkMacSystemFont\, Roboto\, &quot\;Helvetica Neue&quot\;\, Helvetica\, Tahoma\, Arial\, sans-serif\; font-size: 15px\; letter-spacing: 0.5px\;">&nbsp\;</p>\n\n<p style="margin: 0px\; padding: 10px 0px 0px\; color: rgb(111\, 114\, 135)\; font-family: &quot\;Neue Plak&quot\;\, -apple-system\, BlinkMacSystemFont\, Roboto\, &quot\;Helvetica Neue&quot\;\, Helvetica\, Tahoma\, Arial\, sans-serif\; font-size: 15px\; letter-spacing: 0.5px\;"><span style="font-weight: 700\; padding-top: 0px\;">What To Read</span></p>\n\n<p style="margin: 0px\; padding: 10px 0px 0px\; color: rgb(111\, 114\, 135)\; font-family: &quot\;Neue Plak&quot\;\, -apple-system\, BlinkMacSystemFont\, Roboto\, &quot\;Helvetica Neue&quot\;\, Helvetica\, Tahoma\, Arial\, sans-serif\; font-size: 15px\; letter-spacing: 0.5px\;">Books:</p>\n\n<p style="margin: 0px\; padding: 10px 0px 0px\; color: rgb(111\, 114\, 135)\; font-family: &quot\;Neue Plak&quot\;\, -apple-system\, BlinkMacSystemFont\, Roboto\, &quot\;Helvetica Neue&quot\;\, Helvetica\, Tahoma\, Arial\, sans-serif\; font-size: 15px\; letter-spacing: 0.5px\;"><span style="font-weight: 700\; padding-top: 0px\;">March:</span>&nbsp\;<em>You Are A Badass</em>&nbsp\;by Jen Sincero https://amzn.to/2Gm6Ope</p>\n\n<p style="margin: 0px\; padding: 10px 0px 0px\; color: rgb(111\, 114\, 135)\; font-family: &quot\;Neue Plak&quot\;\, -apple-system\, BlinkMacSystemFont\, Roboto\, &quot\;Helvetica Neue&quot\;\, Helvetica\, Tahoma\, Arial\, sans-serif\; font-size: 15px\; letter-spacing: 0.5px\;"><span style="font-weight: 700\; padding-top: 0px\;">April:</span>&nbsp\;<em>Emyth Revisited: Why Most Small Businesses Don&#39\;t Work and What To Do About It By Michael Gerber&nbsp\;</em>https://amzn.to/2GFWAzn</p>\n\n<p style="margin: 0px\; padding: 10px 0px 0px\; color: rgb(111\, 114\, 135)\; font-family: &quot\;Neue Plak&quot\;\, -apple-system\, BlinkMacSystemFont\, Roboto\, &quot\;Helvetica Neue&quot\;\, Helvetica\, Tahoma\, Arial\, sans-serif\; font-size: 15px\; letter-spacing: 0.5px\;"><span style="font-weight: 700\; padding-top: 0px\;">May:</span>&nbsp\;<em>StrengthFinder 2.0</em>&nbsp\;by Don Clifton &amp\; Gallup https://amzn.to/2IdZtd5</p>\n\n<p style="margin: 0px\; padding: 10px 0px 0px\; color: rgb(111\, 114\, 135)\; font-family: &quot\;Neue Plak&quot\;\, -apple-system\, BlinkMacSystemFont\, Roboto\, &quot\;Helvetica Neue&quot\;\, Helvetica\, Tahoma\, Arial\, sans-serif\; font-size: 15px\; letter-spacing: 0.5px\;"><span style="font-weight: 700\; padding-top: 0px\;">June:&nbsp\;</span><em>GRIT: The New Science of What it Takes to Persevere\, Flourish\, Succeed</em>&nbsp\;by Paul G. Stoltz\, PhD https://amzn.to/2WXqR2x</p>\n\n<p style="margin: 0px\; padding: 10px 0px 0px\; color: rgb(111\, 114\, 135)\; font-family: &quot\;Neue Plak&quot\;\, -apple-system\, BlinkMacSystemFont\, Roboto\, &quot\;Helvetica Neue&quot\;\, Helvetica\, Tahoma\, Arial\, sans-serif\; font-size: 15px\; letter-spacing: 0.5px\;"><span style="font-weight: 700\; padding-top: 0px\;">July:&nbsp\;</span><em>You Are a Badass at Making Money by Jen Sincero</em>https://amzn.to/2IgDdzo</p>\n\n<p style="margin: 0px\; padding: 10px 0px 0px\; color: rgb(111\, 114\, 135)\; font-family: &quot\;Neue Plak&quot\;\, -apple-system\, BlinkMacSystemFont\, Roboto\, &quot\;Helvetica Neue&quot\;\, Helvetica\, Tahoma\, Arial\, sans-serif\; font-size: 15px\; letter-spacing: 0.5px\;"><span style="font-weight: 700\; padding-top: 0px\;">August:&nbsp\;</span><em>What Every Body is Saying</em>&nbsp\;by Joe Navarro https://amzn.to/2IdGFuI</p>\n\n<p style="margin: 0px\; padding: 10px 0px 0px\; color: rgb(111\, 114\, 135)\; font-family: &quot\;Neue Plak&quot\;\, -apple-system\, BlinkMacSystemFont\, Roboto\, &quot\;Helvetica Neue&quot\;\, Helvetica\, Tahoma\, Arial\, sans-serif\; font-size: 15px\; letter-spacing: 0.5px\;"><span style="font-weight: 700\; padding-top: 0px\;">September:</span><em>&nbsp\;Think Like A Marketer&nbsp\;</em>by Kate Colbert https://amzn.to/2GoR2Kv</p>\n\n<p style="margin: 0px\; padding: 10px 0px 0px\; color: rgb(111\, 114\, 135)\; font-family: &quot\;Neue Plak&quot\;\, -apple-system\, BlinkMacSystemFont\, Roboto\, &quot\;Helvetica Neue&quot\;\, Helvetica\, Tahoma\, Arial\, sans-serif\; font-size: 15px\; letter-spacing: 0.5px\;"><span style="font-weight: 700\; padding-top: 0px\;">October:&nbsp\;</span><em>How to Be a Powerful Speaker</em>&nbsp\;by Sarah Victory https://amzn.to/2N4LJjH</p>\n\n<p style="margin: 0px\; padding: 10px 0px 0px\; color: rgb(111\, 114\, 135)\; font-family: &quot\;Neue Plak&quot\;\, -apple-system\, BlinkMacSystemFont\, Roboto\, &quot\;Helvetica Neue&quot\;\, Helvetica\, Tahoma\, Arial\, sans-serif\; font-size: 15px\; letter-spacing: 0.5px\;"><span style="font-weight: 700\; padding-top: 0px\;">November:&nbsp\;</span><em>The 5 AM Club: Own Your Morning. Elevate Your Life.</em>&nbsp\;by Robin Sharma<span style="font-weight: 700\;">&nbsp\;</span>https://amzn.to/2IctDgR</p>\n\n<p style="margin: 0px\; padding: 10px 0px 0px\; color: rgb(111\, 114\, 135)\; font-family: &quot\;Neue Plak&quot\;\, -apple-system\, BlinkMacSystemFont\, Roboto\, &quot\;Helvetica Neue&quot\;\, Helvetica\, Tahoma\, Arial\, sans-serif\; font-size: 15px\; letter-spacing: 0.5px\;"><span style="font-weight: 700\; padding-top: 0px\;">December:&nbsp\;</span><em>The Go-Giver</em>&nbsp\;by Bob Burg and John David Mann https://amzn.to/2GIG6qe</p>\n\n<p style="margin: 0px\; padding: 10px 0px 0px\; color: rgb(111\, 114\, 135)\; font-family: &quot\;Neue Plak&quot\;\, -apple-system\, BlinkMacSystemFont\, Roboto\, &quot\;Helvetica Neue&quot\;\, Helvetica\, Tahoma\, Arial\, sans-serif\; font-size: 15px\; letter-spacing: 0.5px\;">&nbsp\;</p>\n\n<p style="margin: 0px\; padding: 10px 0px 0px\; color: rgb(111\, 114\, 135)\; font-family: &quot\;Neue Plak&quot\;\, -apple-system\, BlinkMacSystemFont\, Roboto\, &quot\;Helvetica Neue&quot\;\, Helvetica\, Tahoma\, Arial\, sans-serif\; font-size: 15px\; letter-spacing: 0.5px\;">NOTES:</p>\n\n<p style="margin: 0px\; padding: 10px 0px 0px\; color: rgb(111\, 114\, 135)\; font-family: &quot\;Neue Plak&quot\;\, -apple-system\, BlinkMacSystemFont\, Roboto\, &quot\;Helvetica Neue&quot\;\, Helvetica\, Tahoma\, Arial\, sans-serif\; font-size: 15px\; letter-spacing: 0.5px\;">Not sure if you can make it? Pay at the Door as well!</p>\n\n<p style="margin: 0px\; padding: 10px 0px 0px\; color: rgb(111\, 114\, 135)\; font-family: &quot\;Neue Plak&quot\;\, -apple-system\, BlinkMacSystemFont\, Roboto\, &quot\;Helvetica Neue&quot\;\, Helvetica\, Tahoma\, Arial\, sans-serif\; font-size: 15px\; letter-spacing: 0.5px\;">Avid reader? Love this idea? Buy A Year&#39\;s Worth of BookClub for only $99</p>\n\n<p style="margin: 0px\; padding: 10px 0px 0px\; color: rgb(111\, 114\, 135)\; font-family: &quot\;Neue Plak&quot\;\, -apple-system\, BlinkMacSystemFont\, Roboto\, &quot\;Helvetica Neue&quot\;\, Helvetica\, Tahoma\, Arial\, sans-serif\; font-size: 15px\; letter-spacing: 0.5px\;">** Links to the books on Amazon is an affiliate link.</p>\n
LOCATION:Glenview Grind 1837 Glenview Road Glenview\, IL 60025
UID:e.434.10121
SEQUENCE:3
DTSTAMP:20260425T035127Z
URL:http://business.glenviewchamber.com/events/details/glenview-business-book-club-10121
END:VEVENT

END:VCALENDAR
