BEGIN:VCALENDAR
VERSION:2.0
PRODID:-//ChamberMaster//Event Calendar 2.0//EN
METHOD:PUBLISH
X-PUBLISHED-TTL:P3D
REFRESH-INTERVAL:P3D
CALSCALE:GREGORIAN
BEGIN:VEVENT
DTSTART:20251007T140000Z
DTEND:20251007T170000Z
X-MICROSOFT-CDO-ALLDAYEVENT:FALSE
SUMMARY:Glenview Chamber Open House
DESCRIPTION:Come learn more about the Glenview Chamber of Commerce and how it can help your business through networking\, marketing\, getting involved in the community\, and more. Open to all business leaders interested in learning more about the Glenview Chamber and current Glenview Chamber members wanting to learn more about how to maximize their benefits.
X-ALT-DESC;FMTTYPE=text/html:<span style="color: rgb(76\, 76\, 83)\; font-family: AsapRegular\, Arial\, sans-serif\; font-size: 14px\;">Come learn more about the Glenview Chamber of Commerce and how it can help your business through networking\, marketing\, getting involved in the community\, and more. Open to all business leaders interested in learning more about the Glenview Chamber and current Glenview Chamber members wanting to learn more about how to maximize their benefits.&nbsp\;</span>
LOCATION:2222 Chestnut Ave Suite 100 Conference Room Glenview\, IL
UID:e.434.11132
SEQUENCE:3
DTSTAMP:20260420T073739Z
URL:http://business.glenviewchamber.com/events/details/glenview-chamber-open-house-11132
END:VEVENT

END:VCALENDAR
