BEGIN:VCALENDAR
VERSION:2.0
PRODID:-//ChamberMaster//Event Calendar 2.0//EN
METHOD:PUBLISH
X-PUBLISHED-TTL:P3D
REFRESH-INTERVAL:P3D
CALSCALE:GREGORIAN
BEGIN:VEVENT
DTSTART:20180420T230000Z
DTEND:20180421T020000Z
X-MICROSOFT-CDO-ALLDAYEVENT:FALSE
SUMMARY:Glenview Civic Awards
DESCRIPTION:This civic event is sponsored by service clubs in the Village -- American Legion Post 166\, Glenview Women's Club\, Kiwanis Club of Glenview/Northbrook\, Lions\, Navy League-Glenview Council\, Optimist\, Rotary-Luncheon and Rotary-Sunrise -- and the Glenview Chamber of Commerce . Each year\, a member of each organization participates on a selection committee that reviews nominations and selects award recipients.
X-ALT-DESC;FMTTYPE=text/html:This civic event is sponsored by service clubs in the Village -- American Legion Post 166\, Glenview Women&#39\;s Club\, Kiwanis Club of Glenview/Northbrook\, Lions\, Navy League-Glenview Council\, Optimist\, Rotary-Luncheon and Rotary-Sunrise -- and the Glenview Chamber of Commerce&#8203\;. Each year\, a member of each organization participates on a selection committee that reviews nominations and selects award recipients.&nbsp\;
LOCATION:Delta by Marriott Chicago North Shore 1400 N. Milwaukee Avenue Glenview\, IL
UID:e.434.8718
SEQUENCE:3
DTSTAMP:20260425T151241Z
URL:http://business.glenviewchamber.com/events/details/glenview-civic-awards-04-20-2018-8718
END:VEVENT

END:VCALENDAR
