BEGIN:VCALENDAR
VERSION:2.0
PRODID:-//ChamberMaster//Event Calendar 2.0//EN
METHOD:PUBLISH
X-PUBLISHED-TTL:P3D
REFRESH-INTERVAL:P3D
CALSCALE:GREGORIAN
BEGIN:VEVENT
DTSTART:20170604T200000Z
DTEND:20170604T220000Z
X-MICROSOFT-CDO-ALLDAYEVENT:FALSE
SUMMARY:Glenview Community Church presents Organ Walk 6
DESCRIPTION:The Simple Gifts Concert Series of the Glenview Community Church presents Organ Walk 6 on Sunday\, June 4\, from 3:00   5:00pm. Join us as we walk (or drive) to hear three of the North Shore's finest instruments and organists! We will begin at the New Church\, 74 Park Drive in Glenview at 3:00pm to hear Dr. Kirstin Synnestvedt\, continue to St. David's Episcopal Church\, 2410 Glenview Road\, to hear Dr. Julia Brueck and walk on to Glenview Community Church\, 1000 Elm\, to hear Gary Wendt. A free will offering will be collected to benefit the Northfield Township Food Pantry. For more information call 847-724-2210\, email us at simplegifts@gccucc.org or visit our website at www.gccmusic.org.
X-ALT-DESC;FMTTYPE=text/html:The Simple Gifts Concert Series of the Glenview Community Church presents Organ Walk 6 on Sunday\, June 4\, from 3:00 &ndash\; 5:00pm. Join us as we walk (or drive) to hear three of the North Shore&rsquo\;s finest instruments and organists! We will begin at the New Church\, 74 Park Drive in Glenview at 3:00pm to hear Dr. Kirstin Synnestvedt\, continue to St. David&rsquo\;s Episcopal Church\, 2410 Glenview Road\, to hear Dr. Julia Brueck and walk on to Glenview Community Church\, 1000 Elm\, to hear Gary Wendt. A free will offering will be collected to benefit the Northfield Township Food Pantry. For more information call 847-724-2210\, email us at simplegifts@gccucc.org or visit our website at www.gccmusic.org.
LOCATION:New Church\, 74 Park Drive\, St. David's Episcopal\,\, 2410 Glenview Road\, Glenview Community Church\, 1000 Elm St.\, Glenview
UID:e.434.7132
SEQUENCE:3
DTSTAMP:20260426T042216Z
URL:http://business.glenviewchamber.com/events/details/glenview-community-church-presents-organ-walk-6-7132
END:VEVENT

END:VCALENDAR
