BEGIN:VCALENDAR
VERSION:2.0
PRODID:-//ChamberMaster//Event Calendar 2.0//EN
METHOD:PUBLISH
X-PUBLISHED-TTL:P3D
REFRESH-INTERVAL:P3D
CALSCALE:GREGORIAN
BEGIN:VEVENT
DTSTART:20180707T003000Z
DTEND:20180707T020000Z
X-MICROSOFT-CDO-ALLDAYEVENT:FALSE
SUMMARY:Glenview Theatre Guild - Oklahoma!
DESCRIPTION:Rodgers & Hammerstein's Oklahoma!\n\nPerformed with a live orchestra!\n\nMusic by Richard Rodgers\n\nBook and Lyrics by Oscar Hammerstein II\n\nBased on the play "Green Grow the Lilacs" by Lynn Riggs\n\nOriginal Dances by Agnes de Mille\n\n\n\nDirector: Chris Causer\n\nProducer: Sally Norlie\n\nChoreographer: Annie Snow\n\nMusic Director: Aaron Kaplan
X-ALT-DESC;FMTTYPE=text/html:Rodgers &amp\; Hammerstein&#39\;s Oklahoma!<br />\nPerformed with a live orchestra!<br />\nMusic by Richard Rodgers<br />\nBook and Lyrics by Oscar Hammerstein II<br />\nBased on the play &quot\;Green Grow the Lilacs&quot\; by Lynn Riggs<br />\nOriginal Dances by Agnes de Mille<br />\n<br />\nDirector: Chris Causer<br />\nProducer: Sally Norlie<br />\nChoreographer: Annie Snow<br />\nMusic Director: Aaron Kaplan
LOCATION:Sheely Center for the Performing Arts at Glenbrook North High School 2300 Shermer Road Northbrook\, IL
UID:e.434.9790
SEQUENCE:3
DTSTAMP:20260425T123722Z
URL:http://business.glenviewchamber.com/events/details/glenview-theatre-guild-oklahoma-9790
END:VEVENT

END:VCALENDAR
