BEGIN:VCALENDAR
VERSION:2.0
PRODID:-//ChamberMaster//Event Calendar 2.0//EN
METHOD:PUBLISH
X-PUBLISHED-TTL:P3D
REFRESH-INTERVAL:P3D
CALSCALE:GREGORIAN
BEGIN:VEVENT
DTSTART:20191206T170000Z
DTEND:20191206T210000Z
X-MICROSOFT-CDO-ALLDAYEVENT:FALSE
SUMMARY:Glo Skin Beauty Makeup Event
DESCRIPTION:Complimentary Makeovers by\n\na Glo professional makeup artist\n\n\n\n15% OFF ALL GLO SKIN BEAUTY\n\nPRODUCTS PLUS FREE BRUSHES\,OILS &\n\nMORE GIFTS WITH PURCHASE!\n\n\n\nRefreshments & Salads will be provided by Antalee Cafe!
X-ALT-DESC;FMTTYPE=text/html:Complimentary Makeovers by<br />\na Glo professional makeup artist<br />\n<br />\n15% OFF ALL GLO SKIN BEAUTY<br />\nPRODUCTS PLUS FREE BRUSHES\,OILS &amp\;<br />\nMORE GIFTS WITH PURCHASE!<br />\n<br />\nRefreshments &amp\; Salads will be provided by Antalee Cafe!
LOCATION:Antalee Wellness Center & Spa 1836 Glenview Road Glenview
UID:e.434.10282
SEQUENCE:3
DTSTAMP:20260424T101925Z
URL:http://business.glenviewchamber.com/events/details/glo-skin-beauty-makeup-event-10282
END:VEVENT

END:VCALENDAR
