BEGIN:VCALENDAR
VERSION:2.0
PRODID:-//ChamberMaster//Event Calendar 2.0//EN
METHOD:PUBLISH
X-PUBLISHED-TTL:P3D
REFRESH-INTERVAL:P3D
CALSCALE:GREGORIAN
BEGIN:VEVENT
DTSTART:20170725T170000Z
DTEND:20170725T180000Z
X-MICROSOFT-CDO-ALLDAYEVENT:FALSE
SUMMARY:Golf Committee Meeting
DESCRIPTION:Golf Committee Meeting
X-ALT-DESC;FMTTYPE=text/html:Golf Committee Meeting&nbsp\;
LOCATION:Hackney's on Lake
UID:e.434.7135
SEQUENCE:3
DTSTAMP:20260426T030537Z
URL:http://business.glenviewchamber.com/events/details/golf-committee-meeting-7135
END:VEVENT

END:VCALENDAR
