BEGIN:VCALENDAR
VERSION:2.0
PRODID:-//ChamberMaster//Event Calendar 2.0//EN
METHOD:PUBLISH
X-PUBLISHED-TTL:P3D
REFRESH-INTERVAL:P3D
CALSCALE:GREGORIAN
BEGIN:VEVENT
DTSTART;VALUE=DATE:20180815
DTEND;VALUE=DATE:20180816
TRANSP:TRANSPARENT
X-MICROSOFT-CDO-ALLDAYEVENT:TRUE
SUMMARY:Golf League Registration Deadline
DESCRIPTION:HAVE A BALL THIS FALL!\n\nIt's all fun and friendship. No pressure to fret about. No skills are required. Our new golf league is a different twist on networking. You'll spend two hours of concentrated time with 3 different members each time you're out putting\, driving\, and forming new relationships with the Glenview Chamber.
X-ALT-DESC;FMTTYPE=text/html:<span style="color:#4F6228\;"><span style="font-family:arial\,sans-serif\;"><span style="font-size:12.0pt\;"><b>HAVE A BALL THIS FALL!</b><br />\nIt&rsquo\;s all fun and friendship. No pressure to fret about. No skills are required. Our new golf league is a different twist on networking. You&rsquo\;ll spend two hours of concentrated time with 3 different members each time you&rsquo\;re out putting\, driving\, and forming new relationships with the Glenview Chamber. &nbsp\;</span></span></span>
LOCATION:Glenview Park Golf Club 800 Shermer\, Glenview
UID:e.434.9817
SEQUENCE:3
DTSTAMP:20260425T102115Z
URL:http://business.glenviewchamber.com/events/details/golf-league-registration-deadline-9817
END:VEVENT

END:VCALENDAR
