BEGIN:VCALENDAR
VERSION:2.0
PRODID:-//ChamberMaster//Event Calendar 2.0//EN
METHOD:PUBLISH
X-PUBLISHED-TTL:P3D
REFRESH-INTERVAL:P3D
CALSCALE:GREGORIAN
BEGIN:VEVENT
DTSTART:20250807T163000Z
DTEND:20250808T010000Z
X-MICROSOFT-CDO-ALLDAYEVENT:FALSE
SUMMARY:Golf Outing
DESCRIPTION:Let's take a break and enjoy the beautiful weather at the Glenview Chamber's Annual Golf Outing. The annual event brings out golfing enthusiasts of all levels to enjoy a day on the links. The golf tournament is perfect to entertain existing and new business clients. There will be awards provided by The Crystal Cave along with on-course prizes and plenty of raffle items. Golfers have lunch and dinner included in the day. Make plans to play and network with area business leaders.\n\n\n\nRaffle tickets sold out. Winners have been contacted. \n\n\n\nEXCLUSIVE sponsorships:\n\nBar Cart- SOLD\n\nLunch Sponsor- SOLD\n\nDinner Sponsor- SOLD\n\n\n\nSponsorships:\n\nActivity Sponsor- SOLD\n\nHole Sponsor- SOLD\n\nInquire with Meghan about sponsorships at: meghan@glenviewchamber.com
X-ALT-DESC;FMTTYPE=text/html:<p><span style="color: rgb(76\, 76\, 83)\; font-family: Arial\, &quot\;sans-serif&quot\;\; font-size: 13.3333px\;">Let&#39\;s take a break and enjoy the beautiful weather at the Glenview Chamber&#39\;s Annual Golf Outing. The annual event brings out golfing enthusiasts of all levels to enjoy a day on the links. The golf tournament is perfect to entertain existing and new business clients. There will be awards provided by The Crystal Cave along with on-course prizes and plenty of raffle items. Golfers have lunch and dinner included in the day. Make plans to play and network with area business leaders.</span><br />\n<br />\nRaffle tickets sold out. Winners have been contacted.&nbsp\;<br />\n<br />\n<span style="color: rgb(76\, 76\, 83)\; font-family: Arial\, &quot\;sans-serif&quot\;\; font-size: 13.3333px\;">EXCLUSIVE sponsorships:<br />\nBar Cart- SOLD<br />\nLunch Sponsor- SOLD<br />\nDinner Sponsor- SOLD<br />\n<br />\nSponsorships:<br />\nActivity Sponsor- SOLD<br />\nHole Sponsor-&nbsp\;SOLD</span><br />\n<span style="color: rgb(76\, 76\, 83)\; font-family: Arial\, &quot\;sans-serif&quot\;\; font-size: 13.3333px\;"><em>Inquire with Meghan about sponsorships at: meghan@glenviewchamber.com&nbsp\;</em></span></p>\n
LOCATION:Glenview Park Golf Club 800 Shermer Road Glenview
UID:e.434.11099
SEQUENCE:3
DTSTAMP:20260423T122900Z
URL:http://business.glenviewchamber.com/events/details/golf-outing-11099
END:VEVENT

END:VCALENDAR
