BEGIN:VCALENDAR
VERSION:2.0
PRODID:-//ChamberMaster//Event Calendar 2.0//EN
METHOD:PUBLISH
X-PUBLISHED-TTL:P3D
REFRESH-INTERVAL:P3D
CALSCALE:GREGORIAN
BEGIN:VEVENT
DTSTART:20170822T160000Z
DTEND:20170823T000000Z
X-MICROSOFT-CDO-ALLDAYEVENT:FALSE
SUMMARY:Golf Outing
DESCRIPTION:Let's take a break and enjoy the beautiful weather at the Glenview Chamber's Annual Golf Outing. The annual event brings out golfing enthusiasts of all levels to enjoy a day on the links. The golf tournament is perfect to entertain existing and new business clients. There will be awards along with on-course prizes and plenty of raffle items. Lunch and dinner are included in the day. Make plans to play and network with area business leaders.
X-ALT-DESC;FMTTYPE=text/html:<span style="color: rgb(118\, 112\, 119)\; font-family: Arial\, sans-serif\; font-size: 14px\;">Let&#39\;s take a break and enjoy the beautiful weather at the Glenview Chamber&#39\;s Annual Golf Outing. The annual event brings out golfing enthusiasts of all levels to enjoy a day on the links. The golf tournament is perfect to entertain existing and new business clients. There will be awards along with on-course prizes and plenty of raffle items. Lunch and dinner are included in the day. Make plans to play and network with area business leaders.</span>
LOCATION:Glenview Park Golf Club (800 Shermer Rd)
UID:e.434.6842
SEQUENCE:3
DTSTAMP:20260426T014133Z
URL:http://business.glenviewchamber.com/events/details/golf-outing-6842
END:VEVENT

END:VCALENDAR
