BEGIN:VCALENDAR
VERSION:2.0
PRODID:-//ChamberMaster//Event Calendar 2.0//EN
METHOD:PUBLISH
X-PUBLISHED-TTL:P3D
REFRESH-INTERVAL:P3D
CALSCALE:GREGORIAN
BEGIN:VEVENT
DTSTART:20170730T010000Z
DTEND:20170730T040000Z
X-MICROSOFT-CDO-ALLDAYEVENT:FALSE
SUMMARY:Goose Island Tap Takeover at The Curragh Irish Pub
DESCRIPTION:Goose Island Tap Takeover at The Curragh Irish Pub\n\nMusical guests: Breakfast Club\n\nFeaturing: Old Man Grumpy\, IPA\, Four Star Pils\, Bourbon Country\n\nRaffles & Glassware Giveaways\n\nWhile supplies last. Must be 21. One per customer. No purchase necessary.
X-ALT-DESC;FMTTYPE=text/html:Goose Island Tap Takeover at The Curragh Irish Pub<br />\nMusical guests: Breakfast Club<br />\nFeaturing: Old Man Grumpy\, IPA\, Four Star Pils\, Bourbon Country<br />\nRaffles &amp\; Glassware Giveaways<br />\nWhile supplies last. Must be 21. One per customer. No purchase necessary.
LOCATION:The Curragh Irish Pub 1800 Tower Drive Glenview\, IL 60026
UID:e.434.7276
SEQUENCE:3
DTSTAMP:20260426T030614Z
URL:http://business.glenviewchamber.com/events/details/goose-island-tap-takeover-at-the-curragh-irish-pub-7276
END:VEVENT

END:VCALENDAR
