BEGIN:VCALENDAR
VERSION:2.0
PRODID:-//ChamberMaster//Event Calendar 2.0//EN
METHOD:PUBLISH
X-PUBLISHED-TTL:P3D
REFRESH-INTERVAL:P3D
CALSCALE:GREGORIAN
BEGIN:VEVENT
DTSTART:20170915T210000Z
DTEND:20170915T220000Z
X-MICROSOFT-CDO-ALLDAYEVENT:FALSE
SUMMARY:Grand Opening & Ribbon Cutting Macushla Brewing
DESCRIPTION:Grand Opening/Ribbon Cutting Ceremony\n\nMascushla Brewing Company
X-ALT-DESC;FMTTYPE=text/html:Grand Opening/Ribbon Cutting Ceremony<br />\n<strong><span style="font-size:20px\;">Mascushla Brewing Company</span>&nbsp\;&nbsp\;</strong>&nbsp\;&nbsp\;
LOCATION:1516 E. Lake Avenue (Next to Hackneys on the Lake)
UID:e.434.7304
SEQUENCE:3
DTSTAMP:20260426T001747Z
URL:http://business.glenviewchamber.com/events/details/grand-opening-ribbon-cutting-macushla-brewing-7304
END:VEVENT

END:VCALENDAR
