BEGIN:VCALENDAR
VERSION:2.0
PRODID:-//ChamberMaster//Event Calendar 2.0//EN
METHOD:PUBLISH
X-PUBLISHED-TTL:P3D
REFRESH-INTERVAL:P3D
CALSCALE:GREGORIAN
BEGIN:VEVENT
DTSTART:20171204T230000Z
DTEND:20171205T030000Z
X-MICROSOFT-CDO-ALLDAYEVENT:FALSE
SUMMARY:Gusto's Holiday Vendor Show
DESCRIPTION:Gusto's Holiday Vendor Show\n\nEnjoy complimentary Wine & Hors d'ouevres while finding that perfect holiday gift.\n\nWine\, Dine\, & Shop!
X-ALT-DESC;FMTTYPE=text/html:<span style="font-size:14px\;"><strong>Gusto&#39\;s Holiday Vendor Show</strong><br />\n<span style="font-size:12px\;">Enjoy complimentary Wine &amp\; Hors d&#39\;ouevres while finding that perfect holiday gift.<br />\nWine\, Dine\, &amp\; Shop!</span></span>
LOCATION:Gusto's Italiano Restaurant 1834 Glenview Road
UID:e.434.8692
SEQUENCE:3
DTSTAMP:20260425T202711Z
URL:http://business.glenviewchamber.com/events/details/gusto-s-holiday-vendor-show-8692
END:VEVENT

END:VCALENDAR
