BEGIN:VCALENDAR
VERSION:2.0
PRODID:-//ChamberMaster//Event Calendar 2.0//EN
METHOD:PUBLISH
X-PUBLISHED-TTL:P3D
REFRESH-INTERVAL:P3D
CALSCALE:GREGORIAN
BEGIN:VEVENT
DTSTART:20180825T183000Z
DTEND:20180825T213000Z
X-MICROSOFT-CDO-ALLDAYEVENT:FALSE
SUMMARY:Hairlab Chicago Grand Opening
DESCRIPTION:Please join us for the Grand Opening Celebration of Hairlab Chicago
X-ALT-DESC;FMTTYPE=text/html:Please join us for the Grand Opening Celebration of Hairlab Chicago&nbsp\;
LOCATION:Teddie Kossof Building 281 N. Waukegan Road\, Suite 2 Northfield\, IL 60093
UID:e.434.9847
SEQUENCE:3
DTSTAMP:20260425T102440Z
URL:http://business.glenviewchamber.com/events/details/hairlab-chicago-grand-opening-9847
END:VEVENT

END:VCALENDAR
