BEGIN:VCALENDAR
VERSION:2.0
PRODID:-//ChamberMaster//Event Calendar 2.0//EN
METHOD:PUBLISH
X-PUBLISHED-TTL:P3D
REFRESH-INTERVAL:P3D
CALSCALE:GREGORIAN
BEGIN:VEVENT
DTSTART:20180421T150000Z
DTEND:20180421T210000Z
X-MICROSOFT-CDO-ALLDAYEVENT:FALSE
SUMMARY:Halo Laser & Aesthetic Medicine - 3rd Anniversary Celebration
DESCRIPTION:We would like YOU to join us in celebrating our 3rd anniversary:\n\nSaturday\, April 21\n\n10 am - 4 pm\n\n\n\nHalo Laser & Aesthetic Medicine\n\n281 Waukegan Road\n\nNorthfield\, IL 60093 \n\n(2nd Floor of the Teddie Kosof Salon)\n\n\n\nCome out and meet our team and our vendors. Enjoy wine\, hors d'oeuvres and specials throughout the day:\n\n\n	Buy 2\, Get 1 Free on all Products\n	Save up to 25 Percent on Select Services\n	Raffles Every 1/2 Hour\n\n\nRSVP online by April 18 for a guaranteed swag bag and a chance to win free botox\, fillers and laser treatments. (RSVP Now)\n\nCan't make it but want to find out about our anniversary specials? Call 847-260-7300 for details.
X-ALT-DESC;FMTTYPE=text/html:<h3>We would like YOU to join us in celebrating our 3rd anniversary:</h3>\n\n<p><strong>Saturday\, April 21<br />\n10 am - 4 pm</strong><br />\n<br />\n<strong>Halo Laser &amp\; Aesthetic Medicine<br />\n281 Waukegan Road<br />\nNorthfield\, IL 60093&nbsp\;</strong><br />\n<em>(2nd Floor of the Teddie Kosof Salon)</em><br />\n<br />\nCome out and meet our team and our vendors. Enjoy wine\, hors d&#39\;oeuvres and specials throughout the day:</p>\n\n<ul>\n	<li>Buy 2\, Get 1 Free on all Products</li>\n	<li>Save up to 25 Percent on Select Services</li>\n	<li>Raffles Every 1/2 Hour</li>\n</ul>\n\n<p><strong><a href="https://halo3years.app.rsvpify.com/" target="_blank">RSVP online</a>&nbsp\;by April 18 for a guaranteed swag bag and a chance to win free botox\, fillers and laser treatments. <a href="https://halo3years.app.rsvpify.com/" target="_blank">(RSVP Now)</a></strong></p>\n\n<p>Can&#39\;t make it but want to find out about our anniversary specials? Call 847-260-7300 for details.</p>\n
LOCATION:Halo Laser & Aesthetic Medicine 281 Waukegan Road Northfield\, IL 60093 (2nd Floor of the Teddie Kosof Salon)
UID:e.434.8765
SEQUENCE:3
DTSTAMP:20260425T152144Z
URL:http://business.glenviewchamber.com/events/details/halo-laser-aesthetic-medicine-3rd-anniversary-celebration-8765
END:VEVENT

END:VCALENDAR
