BEGIN:VCALENDAR
VERSION:2.0
PRODID:-//ChamberMaster//Event Calendar 2.0//EN
METHOD:PUBLISH
X-PUBLISHED-TTL:P3D
REFRESH-INTERVAL:P3D
CALSCALE:GREGORIAN
BEGIN:VEVENT
DTSTART:20250403T170000Z
DTEND:20250403T180000Z
X-MICROSOFT-CDO-ALLDAYEVENT:FALSE
SUMMARY:Heal Hip Pain Naturally
DESCRIPTION:In One Hour You Will Learn: The three main causes of hip pain\, the #1 mistake people with hip pain make\, and how to heal hip pain naturally.
X-ALT-DESC;FMTTYPE=text/html:In One Hour You Will Learn: The three main causes of hip pain\, the #1 mistake people with hip pain make\, and how to heal hip pain naturally.
LOCATION:Online
UID:e.434.11185
SEQUENCE:3
DTSTAMP:20260420T111425Z
URL:http://business.glenviewchamber.com/events/details/heal-hip-pain-naturally-04-03-2025-11185
END:VEVENT

END:VCALENDAR
