BEGIN:VCALENDAR
VERSION:2.0
PRODID:-//ChamberMaster//Event Calendar 2.0//EN
METHOD:PUBLISH
X-PUBLISHED-TTL:P3D
REFRESH-INTERVAL:P3D
CALSCALE:GREGORIAN
BEGIN:VEVENT
DTSTART:20250109T180000Z
DTEND:20250109T190000Z
X-MICROSOFT-CDO-ALLDAYEVENT:FALSE
SUMMARY:Heal Neck Pain Naturally
DESCRIPTION:Do you occasionally wake up with a "kink" in your neck? Do you have trouble turning your head while driving? Do you have headaches that start at the base of your head? Do you have pain\, numbness or tingling down your arm? Are you unable to exercise\, ride your bike or sleep because of pain? Then this workshop is for you.
X-ALT-DESC;FMTTYPE=text/html:Do you occasionally wake up with a &ldquo\;kink&rdquo\; in your neck? Do you have trouble turning your head while driving? Do you have headaches that start at the base of your head? Do you have pain\, numbness or tingling down your arm? Are you unable to exercise\, ride your bike or sleep because of pain? Then this workshop is for you.
LOCATION:North Suburban YMCA 2705 Techny Rd. Northbrook. IL 60062
UID:e.434.11113
SEQUENCE:3
DTSTAMP:20260420T153610Z
URL:http://business.glenviewchamber.com/events/details/heal-neck-pain-naturally-11113
END:VEVENT

END:VCALENDAR
